BEGIN:VCALENDAR
VERSION:2.0
PRODID:-//Messe Mühlviertel, seit 1862 - ECPv6.15.20//NONSGML v1.0//EN
CALSCALE:GREGORIAN
METHOD:PUBLISH
X-ORIGINAL-URL:https://messe-muehlviertel.at
X-WR-CALDESC:Veranstaltungen für Messe Mühlviertel, seit 1862
REFRESH-INTERVAL;VALUE=DURATION:PT1H
X-Robots-Tag:noindex
X-PUBLISHED-TTL:PT1H
BEGIN:VTIMEZONE
TZID:Europe/Vienna
BEGIN:DAYLIGHT
TZOFFSETFROM:+0100
TZOFFSETTO:+0200
TZNAME:CEST
DTSTART:20200329T010000
END:DAYLIGHT
BEGIN:STANDARD
TZOFFSETFROM:+0200
TZOFFSETTO:+0100
TZNAME:CET
DTSTART:20201025T010000
END:STANDARD
BEGIN:DAYLIGHT
TZOFFSETFROM:+0100
TZOFFSETTO:+0200
TZNAME:CEST
DTSTART:20210328T010000
END:DAYLIGHT
BEGIN:STANDARD
TZOFFSETFROM:+0200
TZOFFSETTO:+0100
TZNAME:CET
DTSTART:20211031T010000
END:STANDARD
BEGIN:DAYLIGHT
TZOFFSETFROM:+0100
TZOFFSETTO:+0200
TZNAME:CEST
DTSTART:20220327T010000
END:DAYLIGHT
BEGIN:STANDARD
TZOFFSETFROM:+0200
TZOFFSETTO:+0100
TZNAME:CET
DTSTART:20221030T010000
END:STANDARD
END:VTIMEZONE
BEGIN:VEVENT
DTSTART;VALUE=DATE:20210812
DTEND;VALUE=DATE:20210816
DTSTAMP:20260424T124017
CREATED:20191119T132813Z
LAST-MODIFIED:20191119T132813Z
UID:1900-1628726400-1629071999@messe-muehlviertel.at
SUMMARY:Mühlviertler Wies´n
DESCRIPTION:Das Volksfest für Jung & Alt\n Wiesnstart\, Mittwoch\, 11. August 2021 – ab 18:00 Uhr\nTraditionelles Brauchtum\, viele Stunden volkstümliche Musik\, Kulinarik und Feierlaune – all das steht auch heuer wieder am Programm\, wenn die Mühlviertler Wiesn erneut ihre Pforten öffnet. Nach dem erfolgreichen Aufbau der vergangenen Jahre lädt die Messe Mühlviertel für 2020 zu einer Jubiläumsmesse ein.\nIn Verbindung mit dem 800-Jahr-Jubiläum der Messestadt Freistadt spannt die Erlebnismesse „TIERE & LANDTECHNIK“ einen Bogen von der traditionsreichen Landwirtschaft bis in die Zukunft. \nNeben einem großen Vergnügungspark gibt es auch im Freigelände von Mi\, 11. Aug. –  So\, 15. Aug. 2021 wieder allerlei Sehens- und Erlebenswertes zu besichtigen. Kulinarische Schmankerl\, ein abwechslungsreiches Programm und viele weitere Attraktionen werden das Herz so mancher Gäste höher schlagen lassen. Durchgängige Ausstellung in Messehalle und Freigelände\, dazu abwechslungsreiches Programm aus Vorführungen und Informationen \n\nErstmals wieder eine große Tierschau!\nFamilien- und Seniorentag\, Brauchtumsumzug\nErlebnispädagogik\, Aktionen und Vorführungen mit regionalen Partnern\, Künstlern\, Initiativen\nMühlviertler Wies’n mit tollen Musikgruppen und bunter Unterhaltung im Festzelt\nHütten-Dorf\, Genussmeile\, Vergnügungs- und Kinderfreizeitpark mit Riesenrad\n\nAussteller-Schwerpunkte: \n\nNutztiere und Tierhaltung\, Kleintierschau\, Leistungs- und Qualitätsschau\nTraktoren\, Landmaschinen\, Landtechnik\, Tierhaltung\, Stalleinrichtungen\, Futtermittel\n\nSonderschau in der Messehalle 2 \n\nzum Mystik-Thema  „ELYSIUM“:\nOptisch-thematische Erlebnis-Inszenierung mystischer Paradiese in der Geschichte\, in Wald und Naturlandschaft\, im Kräutergarten\, in der Welt unserer Kinder …\nrund um das Thema Wetter: WIR SIND WETTER:\nBauernregeln\, Wetterstammtisch\, wetterfühlige Tiere\, Kinderprogramm\n\n 
URL:https://messe-muehlviertel.at/veranstaltung/muehlviertler-wiesn-4/
LOCATION:Mühlviertler Volksfest 2010 Jahrmarkt
CATEGORIES:Messetermine
ATTACH;FMTTYPE=image/png:https://messe-muehlviertel.at/wp-content/uploads/2015/03/mvw_logo.png
ORGANIZER;CN="St%C3%BCtzner GmbH":MAILTO:office@stuetznergruppe.at
END:VEVENT
END:VCALENDAR