BEGIN:VCALENDAR
VERSION:2.0
PRODID:-//Messe Mühlviertel, seit 1862 - ECPv6.15.20//NONSGML v1.0//EN
CALSCALE:GREGORIAN
METHOD:PUBLISH
X-WR-CALNAME:Messe Mühlviertel, seit 1862
X-ORIGINAL-URL:https://messe-muehlviertel.at
X-WR-CALDESC:Veranstaltungen für Messe Mühlviertel, seit 1862
REFRESH-INTERVAL;VALUE=DURATION:PT1H
X-Robots-Tag:noindex
X-PUBLISHED-TTL:PT1H
BEGIN:VTIMEZONE
TZID:Europe/Vienna
BEGIN:DAYLIGHT
TZOFFSETFROM:+0100
TZOFFSETTO:+0200
TZNAME:CEST
DTSTART:20190331T010000
END:DAYLIGHT
BEGIN:STANDARD
TZOFFSETFROM:+0200
TZOFFSETTO:+0100
TZNAME:CET
DTSTART:20191027T010000
END:STANDARD
BEGIN:DAYLIGHT
TZOFFSETFROM:+0100
TZOFFSETTO:+0200
TZNAME:CEST
DTSTART:20200329T010000
END:DAYLIGHT
BEGIN:STANDARD
TZOFFSETFROM:+0200
TZOFFSETTO:+0100
TZNAME:CET
DTSTART:20201025T010000
END:STANDARD
BEGIN:DAYLIGHT
TZOFFSETFROM:+0100
TZOFFSETTO:+0200
TZNAME:CEST
DTSTART:20210328T010000
END:DAYLIGHT
BEGIN:STANDARD
TZOFFSETFROM:+0200
TZOFFSETTO:+0100
TZNAME:CET
DTSTART:20211031T010000
END:STANDARD
END:VTIMEZONE
BEGIN:VEVENT
DTSTART;TZID=Europe/Vienna:20200215T200000
DTEND;TZID=Europe/Vienna:20200215T200000
DTSTAMP:20260425T170909
CREATED:20190515T102934Z
LAST-MODIFIED:20190515T102934Z
UID:1697-1581796800-1581796800@messe-muehlviertel.at
SUMMARY:Viktor Gernot - Nicht wahr?
DESCRIPTION:NICHT WAHR? \nDas neue Soloprogramm von und mit VIKTOR GERNOT \nNicht wahr? Eine Floskel\, die in der deutschen Sprache unendlich oft an das Ende eines Satzes gefügt wird. Als Zeichen\, um seiner Überzeugung Ausdruck zu verleihen? Oder seiner Unsicherheit? Aus prinzipieller Besserwisserei? Oderaufgrund der Tatsache\, dass man genau weiß\, dass man falsch liegt? Nicht wahr? Nicht? Und in diversen Mundarten von „Ned?“\, über „Hoscht mi?“\, bis „Nmh?“. \nFragen über Fragen. Und das im postfaktischen Zeitalter. Wo Falschinformation nicht mehr aus Unwissen und schlechter Recherche entsteht. Sondern mit der puren Absicht zu manipulieren\, oder schlicht eine Unwahrheit wirksam in die Welt zu setzen. Oder aus purer Dummheit. Uralte Weisheiten und Glaubenssätze werden in Frage gestellt. Dazu die Tatsache\, dass man im Internet auf vieles trifft\, jedochim seltensten Fall auf die Wahrheit. Medien\, Politik\, Showbiz\, Literatur\, bis hin zu Beziehung\, Freundeskreis und Familie. Alle Schwindler\, Manipulatoren\, Lügner? Oder einfach nur zu faul um nachzudenken und nachzufragen? \nDarüber kann man trefflich reden\, scherzen\, singen und spielen. Bei\, von und mit Viktor Gernots neuem Solokabarett „Nicht wahr?“ Nicht wahr? \nNach seinen Duo-Ausflügen mit Michael Niavarani und Monika Gruber\, dem Hektiker Best Of\, und nach inzwischen vier Soloprogrammen\, gibt es die neue kabarettistische Personality-Show. 15 Jahre sind seit seinem Solo-Début vergangen\, ganze 30 Jahre seit den frühen Anfängen im Wiener Graumanntheater. Auf diesem langen Karriereweg sammelten sich rund 2000 Vorstellungen im schönen Österreich. Dutzende TV-Ausstrahlungen der Shows mit branchenbezogenen Quotenrekorden\, DVD-Produktionen mit einer Vielzahl von Nummer 1 Platzierungen in den Charts. Und mit dem Ybbser Spaßvogel\, dem großenösterreichischen Kabarettpreis\, sowie dem Salzburger Stier\, sind noch weitere renommierte Auszeichnungen ins Haus geflattert. \nVorverkauf:\nLocal-Bühne Ticketshop auf KUPFticket.at\nwww.oeticket.com & oeticket-Vorverkaufsstellen (zB. Raibas)\nKino & Buchhandlung Wurzinger in Freistadt\n(freie Platzwahl!)
URL:https://messe-muehlviertel.at/veranstaltung/viktor-gernot-nicht-wahr/
LOCATION:Neue Messehalle_Tag 2_0098 (Custom)
CATEGORIES:Konzerte,Messetermine,Musikkabarett
ATTACH;FMTTYPE=image/jpeg:https://messe-muehlviertel.at/wp-content/uploads/2019/05/ViktorGernot-1.jpg
END:VEVENT
END:VCALENDAR