BEGIN:VCALENDAR
VERSION:2.0
PRODID:-//Messe Mühlviertel, seit 1862 - ECPv6.15.20//NONSGML v1.0//EN
CALSCALE:GREGORIAN
METHOD:PUBLISH
X-ORIGINAL-URL:https://messe-muehlviertel.at
X-WR-CALDESC:Veranstaltungen für Messe Mühlviertel, seit 1862
REFRESH-INTERVAL;VALUE=DURATION:PT1H
X-Robots-Tag:noindex
X-PUBLISHED-TTL:PT1H
BEGIN:VTIMEZONE
TZID:Europe/Vienna
BEGIN:DAYLIGHT
TZOFFSETFROM:+0100
TZOFFSETTO:+0200
TZNAME:CEST
DTSTART:20250330T010000
END:DAYLIGHT
BEGIN:STANDARD
TZOFFSETFROM:+0200
TZOFFSETTO:+0100
TZNAME:CET
DTSTART:20251026T010000
END:STANDARD
BEGIN:DAYLIGHT
TZOFFSETFROM:+0100
TZOFFSETTO:+0200
TZNAME:CEST
DTSTART:20260329T010000
END:DAYLIGHT
BEGIN:STANDARD
TZOFFSETFROM:+0200
TZOFFSETTO:+0100
TZNAME:CET
DTSTART:20261025T010000
END:STANDARD
BEGIN:DAYLIGHT
TZOFFSETFROM:+0100
TZOFFSETTO:+0200
TZNAME:CEST
DTSTART:20270328T010000
END:DAYLIGHT
BEGIN:STANDARD
TZOFFSETFROM:+0200
TZOFFSETTO:+0100
TZNAME:CET
DTSTART:20271031T010000
END:STANDARD
END:VTIMEZONE
BEGIN:VEVENT
DTSTART;TZID=Europe/Vienna:20260217T190000
DTEND;TZID=Europe/Vienna:20260218T030000
DTSTAMP:20260424T215906
CREATED:20260120T115854Z
LAST-MODIFIED:20260120T125057Z
UID:7473-1771354800-1771383600@messe-muehlviertel.at
SUMMARY:Faschingsclubbing
DESCRIPTION:Faschingsdienstag 2026 @ Messehalle Freistadt – OÖ`s größte Faschingsparty in der Bezirkshauptstadt!\n„LEI LEI“ heißt es am Faschingsdienstag bei der größten Faschingsparty Oberösterreichs @ Messehalle Freistadt. \n Wie jedes Jahr DAS Faschingshighlight in der Bezirkshauptstadt! \n► 3 LIVE ACTS► C02 Effekte & Konfetti► Food Area► Eigener Bankomat in der Messehalle► Garderobe für 1000 Jacken► Bei JEDER Witterung! Wir sind zu 100 % überdacht.► Der Faschingsdienstag in Freistadt – Legendär seit Jahrzehnten!\n►Einlass: Ab 16 Jahre (Lichtbildausweis erforderlich)\n\n\n\nTickets: nur Abendkasse!\nEintritt FREI von 19 bis 20 Uhr
URL:https://messe-muehlviertel.at/veranstaltung/faschingsclubbing-5/
LOCATION:Messehalle Freistadt\, Am Stieranger 10\, Freistadt\, 4240\, Austria
ATTACH;FMTTYPE=image/jpeg:https://messe-muehlviertel.at/wp-content/uploads/2026/01/Faschingsclubbing.jpg
END:VEVENT
END:VCALENDAR