BEGIN:VCALENDAR
VERSION:2.0
PRODID:-//Messe Mühlviertel, seit 1862 - ECPv6.15.18//NONSGML v1.0//EN
CALSCALE:GREGORIAN
METHOD:PUBLISH
X-ORIGINAL-URL:https://messe-muehlviertel.at
X-WR-CALDESC:Veranstaltungen für Messe Mühlviertel, seit 1862
REFRESH-INTERVAL;VALUE=DURATION:PT1H
X-Robots-Tag:noindex
X-PUBLISHED-TTL:PT1H
BEGIN:VTIMEZONE
TZID:Europe/Vienna
BEGIN:DAYLIGHT
TZOFFSETFROM:+0100
TZOFFSETTO:+0200
TZNAME:CEST
DTSTART:20250330T010000
END:DAYLIGHT
BEGIN:STANDARD
TZOFFSETFROM:+0200
TZOFFSETTO:+0100
TZNAME:CET
DTSTART:20251026T010000
END:STANDARD
BEGIN:DAYLIGHT
TZOFFSETFROM:+0100
TZOFFSETTO:+0200
TZNAME:CEST
DTSTART:20260329T010000
END:DAYLIGHT
BEGIN:STANDARD
TZOFFSETFROM:+0200
TZOFFSETTO:+0100
TZNAME:CET
DTSTART:20261025T010000
END:STANDARD
BEGIN:DAYLIGHT
TZOFFSETFROM:+0100
TZOFFSETTO:+0200
TZNAME:CEST
DTSTART:20270328T010000
END:DAYLIGHT
BEGIN:STANDARD
TZOFFSETFROM:+0200
TZOFFSETTO:+0100
TZNAME:CET
DTSTART:20271031T010000
END:STANDARD
END:VTIMEZONE
BEGIN:VEVENT
DTSTART;TZID=Europe/Vienna:20261118T193000
DTEND;TZID=Europe/Vienna:20261118T193000
DTSTAMP:20260423T041715
CREATED:20260225T094915Z
LAST-MODIFIED:20260225T094915Z
UID:7571-1795030200-1795030200@messe-muehlviertel.at
SUMMARY:Chorkonzert "ROCK4 meets Sonabiles"
DESCRIPTION:Sonabiles\, ein Chor\, der seine aktive Zeit eigentlich bereits im Vorjahr mit emotionalen und unvergesslichen Abschlusskonzerten beendet hatte\, kehrt für dieses einmalige Highlight noch einmal auf die Bühne zurück – im Rahmen eines gemeinsamen Projekts mit der niederländischen A-cappella-Band Rock4 und ihrem aktuellen Programm „The Vocal Experience“.Rock4 – The Vocal Experience\nStimmkünstler auf höchstem Niveau\, die gemeinsam die Grenzen um Gesang Rhythmus und Harmonien schärfen und erweitern.\nFreuen Sie sich auf einen Konzertabend voller Emotion\, Klangvielfalt und musikalischer Begegnungen auf höchstem Niveau.\nKarten erhältlich bei allen Sänger:innen und telefonisch unter 0664/3549880\n\nEintritt: € 35\,—\nEinlass: 19:00 Uhr / Beginn: 19:30 Uhr
URL:https://messe-muehlviertel.at/veranstaltung/chorkonzert-rock4-meets-sonabiles/
LOCATION:Messehalle 2 Freistadt\, Am Stieranger 10\, Freistadt\, 4240\, Austria
CATEGORIES:Konzerte
ATTACH;FMTTYPE=image/jpeg:https://messe-muehlviertel.at/wp-content/uploads/2026/02/634307133_1429717108541120_944344214857081047_n.jpg
ORGANIZER;CN="Chor Sonabiles":MAILTO:dorninger.angelika@gmail.com
END:VEVENT
END:VCALENDAR