BEGIN:VCALENDAR
VERSION:2.0
PRODID:-//Messe Mühlviertel, seit 1862 - ECPv6.15.20//NONSGML v1.0//EN
CALSCALE:GREGORIAN
METHOD:PUBLISH
X-ORIGINAL-URL:https://messe-muehlviertel.at
X-WR-CALDESC:Veranstaltungen für Messe Mühlviertel, seit 1862
REFRESH-INTERVAL;VALUE=DURATION:PT1H
X-Robots-Tag:noindex
X-PUBLISHED-TTL:PT1H
BEGIN:VTIMEZONE
TZID:Europe/Vienna
BEGIN:DAYLIGHT
TZOFFSETFROM:+0100
TZOFFSETTO:+0200
TZNAME:CEST
DTSTART:20250330T010000
END:DAYLIGHT
BEGIN:STANDARD
TZOFFSETFROM:+0200
TZOFFSETTO:+0100
TZNAME:CET
DTSTART:20251026T010000
END:STANDARD
BEGIN:DAYLIGHT
TZOFFSETFROM:+0100
TZOFFSETTO:+0200
TZNAME:CEST
DTSTART:20260329T010000
END:DAYLIGHT
BEGIN:STANDARD
TZOFFSETFROM:+0200
TZOFFSETTO:+0100
TZNAME:CET
DTSTART:20261025T010000
END:STANDARD
BEGIN:DAYLIGHT
TZOFFSETFROM:+0100
TZOFFSETTO:+0200
TZNAME:CEST
DTSTART:20270328T010000
END:DAYLIGHT
BEGIN:STANDARD
TZOFFSETFROM:+0200
TZOFFSETTO:+0100
TZNAME:CET
DTSTART:20271031T010000
END:STANDARD
END:VTIMEZONE
BEGIN:VEVENT
DTSTART;TZID=Europe/Vienna:20260307T090000
DTEND;TZID=Europe/Vienna:20260308T170000
DTSTAMP:20260424T165723
CREATED:20251105T085523Z
LAST-MODIFIED:20260309T070841Z
UID:7175-1772874000-1772989200@messe-muehlviertel.at
SUMMARY:Freistädter Motorshow 2026
DESCRIPTION:Freistädter Motorshow\nAm 7. und 8. März 2026 findet die nächste Freistädter Motorshow in der Messehalle statt. Die Motorshow verspricht wieder ein Highlight für Autoenthusiasten und zukunftsorientierte Fahrzeugliebhaber zu werden. \nÖFFUNUNGSZEITEN:  09:00 – 17:00 UHR\n  EINTRITT:  15 – 18 Jahre  € 5.-\n                       ab 18 Jahre  € 7.-
URL:https://messe-muehlviertel.at/veranstaltung/freistaedter-motorshow-2026/
CATEGORIES:Messetermine
ATTACH;FMTTYPE=image/jpeg:https://messe-muehlviertel.at/wp-content/uploads/2025/11/p1040029720803382026_big.jpg
END:VEVENT
END:VCALENDAR