BEGIN:VCALENDAR
VERSION:2.0
PRODID:-//Messe Mühlviertel, seit 1862 - ECPv6.15.20//NONSGML v1.0//EN
CALSCALE:GREGORIAN
METHOD:PUBLISH
X-WR-CALNAME:Messe Mühlviertel, seit 1862
X-ORIGINAL-URL:https://messe-muehlviertel.at
X-WR-CALDESC:Veranstaltungen für Messe Mühlviertel, seit 1862
REFRESH-INTERVAL;VALUE=DURATION:PT1H
X-Robots-Tag:noindex
X-PUBLISHED-TTL:PT1H
BEGIN:VTIMEZONE
TZID:Europe/Vienna
BEGIN:DAYLIGHT
TZOFFSETFROM:+0100
TZOFFSETTO:+0200
TZNAME:CEST
DTSTART:20250330T010000
END:DAYLIGHT
BEGIN:STANDARD
TZOFFSETFROM:+0200
TZOFFSETTO:+0100
TZNAME:CET
DTSTART:20251026T010000
END:STANDARD
BEGIN:DAYLIGHT
TZOFFSETFROM:+0100
TZOFFSETTO:+0200
TZNAME:CEST
DTSTART:20260329T010000
END:DAYLIGHT
BEGIN:STANDARD
TZOFFSETFROM:+0200
TZOFFSETTO:+0100
TZNAME:CET
DTSTART:20261025T010000
END:STANDARD
BEGIN:DAYLIGHT
TZOFFSETFROM:+0100
TZOFFSETTO:+0200
TZNAME:CEST
DTSTART:20270328T010000
END:DAYLIGHT
BEGIN:STANDARD
TZOFFSETFROM:+0200
TZOFFSETTO:+0100
TZNAME:CET
DTSTART:20271031T010000
END:STANDARD
END:VTIMEZONE
BEGIN:VEVENT
DTSTART;TZID=Europe/Vienna:20261203T193000
DTEND;TZID=Europe/Vienna:20261203T193000
DTSTAMP:20260425T032453
CREATED:20260119T103227Z
LAST-MODIFIED:20260119T103227Z
UID:7468-1796326200-1796326200@messe-muehlviertel.at
SUMMARY:Alex Kristan – Born to be child
DESCRIPTION:Mit BORN TO BE CHILD präsentiert Alex Kristan nicht nur ein Kabarettprogramm\, sondern ein Lebensgefühl. Und zwar eines\, auf das wir im „Erwachsenenmodus“ viel zu oft vergessen\, weil die Stimme der Vernunft so laut ist. Der perfekte Grund für ihn\, seinem Leitsatz „Vernünftig ist wie tot – nur vorher“ unbeirrt weiter zu folgen. \nAlex Kristan weigert sich seit über fünfzig Jahren konsequent\, erwachsen zu werden\, und zieht es immer öfter vor\, altersadäquat zu eskalieren. In Zeiten\, in denen Menschen den eigenen Spiegel wegen Bodyshaming verklagen\, hält er uns erst recht einen vor – und zeigt uns mit seiner ureigenen „Born-Identität“\, dass man darin trotz Verantwortung\, To-do-Listen und gesellschaftlichen Normen auch mal Grimassen schneiden kann. \nMit scharfem Blick und noch schärferem Schmäh seziert er die Absurditäten des modernen Erwachsenseins. Männer mit Frauen-Komplex\, Silberfüchse mit Alterungs-Allergie oder der Fitness-Wahn vs. die Ich-bin-immer-schön-Lüge. Nicht zu vergessen das Nine-Eleven des Pensionssystems\, auch „Rentenhausens Nightmare“ genannt: der Longevity-Hype und die romantisierte Flucht „zurück zur Natur“ in der Hoffnung\, dass die dort vermeintlich heile Welt noch eine Weile hält. \nErwachsen zu sein bedeutet für ihn nicht\, Erwartungen zu erfüllen und im Zeitgeist zu funktionieren\, sondern die Versprechen einzulösen\, die man sich als Kind gegeben hat. Dieses Kind – und damit den Humor – in uns lebendig zu halten\, ist für Alex Kristan das Allzweckmittel gegen den Ernst des Lebens. \nAlex Kristan und seine innere „Rotzpipn“ erinnern als Dreamteam daran\, dass das alles hier keine Generalprobe\, sondern schon das eigentliche Hauptprogramm ist. Gemeinsam ziehen sie dazu ihrem Publikum wieder gehörig das Zwerchfell über die Ohren – mit Herz\, Hirn und kindlicher Freude. \nBORN TO BE CHILD ist ein Notausgang aus dem Hamsterrad. \nEin klassisches Alex-Kristan-Programm. \nFrech\, verspielt\, pointiert. \nwww.alexkristan.at \nVorverkauf in allen Ö-Ticket Filialen\, www.oeticket.com \, in allen Raiffeisen Banken\, sowie print@home Tickets auf www.fg-events.at \nEinlass: ab 18:00 Uhr // Beginn: 19:30 Uhr \nFacebook Eventlink: https://www.facebook.com/events/1583229146055205/ \n 
URL:https://messe-muehlviertel.at/veranstaltung/alex-kristan-born-to-be-child/
CATEGORIES:Kabarett
ATTACH;FMTTYPE=image/png:https://messe-muehlviertel.at/wp-content/uploads/2026/01/Alex-Kristan_Born-to-be-Child_Portraet-scaled.png
END:VEVENT
BEGIN:VEVENT
DTSTART;TZID=Europe/Vienna:20261207T193000
DTEND;TZID=Europe/Vienna:20261208T193000
DTSTAMP:20260425T032453
CREATED:20251015T065429Z
LAST-MODIFIED:20251126T080212Z
UID:7052-1796671800-1796758200@messe-muehlviertel.at
SUMMARY:Monika Gruber
DESCRIPTION:Monika Gruber „Es huift ja nix“\nDie Gruaberin ist zurück – und wie! Nach zwei Jahren Bühnen-Abstinenz feiert Bayerns erfolgreichste Kabarettistin im Jahr 2026 ihr heiß ersehntes Comeback. Als Trans-Harmoniesüchtige im Körper einer Krawallschachtel konnte sie einfach nicht länger schweigen…denn: Es huift ja nix!\nDaher ist es umso wichtiger\, sich an den kleinen\, alltäglichen Absurditäten zu erfreuen: Als Geschichtenerzählerin erklärt Ihnen die Gruaberin\, was eine aufdringliche Möwe mit Charlène von Monaco zu tun hat und warum man nach einer flotten thailändischen Dreier-Massage beim Ordnungsamt landen kann. Außerdem erläutert die Moni\, warum eine gelegentliche Proseccodusche sinnvoller als frühmorgendliches Eisbaden ist und weshalb man Kindern\, aus denen etwas werden soll\, zur Erstkommunion unter keinen Umständen Bargeld sondern unbedingt Kaffeegeschirr und Biberbettwäsche schenken sollte.\nDieses Programm soll ein Plädoyer für mehr Lebensfreude und fürs hedonistisch Unvernünftige sein\nZwei Stunden beste Unterhaltung für alle\, die noch zwischen Hausverstand und Mainstream unterscheiden können.\nDenn bei allem Irrsinn gilt doch: Humor fängt da an\, wo einem das Lachen im Hals stecken bleibt\, weil: ES HUIFT JA NIX!\nTermine: 07. + 08.12.2026 // Beginn: jeweils um 19:30 Uhr\nTicketverkauf unter:\nhttps://www.agentur-stage.at
URL:https://messe-muehlviertel.at/veranstaltung/monika-gruber/
LOCATION:Messehalle Freistadt\, Am Stieranger 10\, Freistadt\, 4240\, Austria
CATEGORIES:Kabarett
ATTACH;FMTTYPE=image/jpeg:https://messe-muehlviertel.at/wp-content/uploads/2025/10/Pressefoto-neu.jpg
ORGANIZER;CN="Veranstaltungsagentur Stage OG":MAILTO:office@agentur-stage.at
END:VEVENT
END:VCALENDAR