BEGIN:VCALENDAR
VERSION:2.0
PRODID:-//Messe Mühlviertel, seit 1862 - ECPv6.15.20//NONSGML v1.0//EN
CALSCALE:GREGORIAN
METHOD:PUBLISH
X-ORIGINAL-URL:https://messe-muehlviertel.at
X-WR-CALDESC:Veranstaltungen für Messe Mühlviertel, seit 1862
REFRESH-INTERVAL;VALUE=DURATION:PT1H
X-Robots-Tag:noindex
X-PUBLISHED-TTL:PT1H
BEGIN:VTIMEZONE
TZID:Europe/Vienna
BEGIN:DAYLIGHT
TZOFFSETFROM:+0100
TZOFFSETTO:+0200
TZNAME:CEST
DTSTART:20250330T010000
END:DAYLIGHT
BEGIN:STANDARD
TZOFFSETFROM:+0200
TZOFFSETTO:+0100
TZNAME:CET
DTSTART:20251026T010000
END:STANDARD
BEGIN:DAYLIGHT
TZOFFSETFROM:+0100
TZOFFSETTO:+0200
TZNAME:CEST
DTSTART:20260329T010000
END:DAYLIGHT
BEGIN:STANDARD
TZOFFSETFROM:+0200
TZOFFSETTO:+0100
TZNAME:CET
DTSTART:20261025T010000
END:STANDARD
BEGIN:DAYLIGHT
TZOFFSETFROM:+0100
TZOFFSETTO:+0200
TZNAME:CEST
DTSTART:20270328T010000
END:DAYLIGHT
BEGIN:STANDARD
TZOFFSETFROM:+0200
TZOFFSETTO:+0100
TZNAME:CET
DTSTART:20271031T010000
END:STANDARD
END:VTIMEZONE
BEGIN:VEVENT
DTSTART;TZID=Europe/Vienna:20260813T100000
DTEND;TZID=Europe/Vienna:20260816T170000
DTSTAMP:20260424T170707
CREATED:20260120T124234Z
LAST-MODIFIED:20260120T124234Z
UID:7509-1786615200-1786899600@messe-muehlviertel.at
SUMMARY:Mühlviertler Wiesn
DESCRIPTION:
URL:https://messe-muehlviertel.at/veranstaltung/muehlviertler-wiesn-5/
LOCATION:Messehalle Freistadt\, Am Stieranger 10\, Freistadt\, 4240\, Austria
ATTACH;FMTTYPE=image/jpeg:https://messe-muehlviertel.at/wp-content/uploads/2025/08/Wiesn.jpg
ORGANIZER;CN="St%C3%BCtzner GmbH":MAILTO:office@stuetznergruppe.at
END:VEVENT
BEGIN:VEVENT
DTSTART;TZID=Europe/Vienna:20260814T100000
DTEND;TZID=Europe/Vienna:20260816T170000
DTSTAMP:20260424T170707
CREATED:20260120T123806Z
LAST-MODIFIED:20260129T073837Z
UID:7506-1786701600-1786899600@messe-muehlviertel.at
SUMMARY:Erlebnismesse "Innovatives Mühlviertel"
DESCRIPTION:
URL:https://messe-muehlviertel.at/veranstaltung/erlebnismesse-innovatives-muehlviertel/
LOCATION:Messehalle Freistadt\, Am Stieranger 10\, Freistadt\, 4240\, Austria
CATEGORIES:Messetermine
ATTACH;FMTTYPE=image/png:https://messe-muehlviertel.at/wp-content/uploads/2026/01/LOGO_Erlebnismesse-2026-1-scaled.png
ORGANIZER;CN="Messe M%C3%BChlviertel":MAILTO:office@messe-muehlviertel.at
END:VEVENT
END:VCALENDAR