BEGIN:VCALENDAR
VERSION:2.0
PRODID:-//Messe Mühlviertel, seit 1862 - ECPv6.15.20//NONSGML v1.0//EN
CALSCALE:GREGORIAN
METHOD:PUBLISH
X-WR-CALNAME:Messe Mühlviertel, seit 1862
X-ORIGINAL-URL:https://messe-muehlviertel.at
X-WR-CALDESC:Veranstaltungen für Messe Mühlviertel, seit 1862
REFRESH-INTERVAL;VALUE=DURATION:PT1H
X-Robots-Tag:noindex
X-PUBLISHED-TTL:PT1H
BEGIN:VTIMEZONE
TZID:Europe/Vienna
BEGIN:DAYLIGHT
TZOFFSETFROM:+0100
TZOFFSETTO:+0200
TZNAME:CEST
DTSTART:20250330T010000
END:DAYLIGHT
BEGIN:STANDARD
TZOFFSETFROM:+0200
TZOFFSETTO:+0100
TZNAME:CET
DTSTART:20251026T010000
END:STANDARD
BEGIN:DAYLIGHT
TZOFFSETFROM:+0100
TZOFFSETTO:+0200
TZNAME:CEST
DTSTART:20260329T010000
END:DAYLIGHT
BEGIN:STANDARD
TZOFFSETFROM:+0200
TZOFFSETTO:+0100
TZNAME:CET
DTSTART:20261025T010000
END:STANDARD
BEGIN:DAYLIGHT
TZOFFSETFROM:+0100
TZOFFSETTO:+0200
TZNAME:CEST
DTSTART:20270328T010000
END:DAYLIGHT
BEGIN:STANDARD
TZOFFSETFROM:+0200
TZOFFSETTO:+0100
TZNAME:CET
DTSTART:20271031T010000
END:STANDARD
END:VTIMEZONE
BEGIN:VEVENT
DTSTART;VALUE=DATE:20260501
DTEND;VALUE=DATE:20260502
DTSTAMP:20260424T100825
CREATED:20260219T094221Z
LAST-MODIFIED:20260219T094221Z
UID:7561-1777593600-1777679999@messe-muehlviertel.at
SUMMARY:Oldtimer-Flohmarkt
DESCRIPTION:
URL:https://messe-muehlviertel.at/veranstaltung/oldtimer-flohmarkt/
LOCATION:Messehalle Freistadt\, Am Stieranger 10\, Freistadt\, 4240\, Austria
ATTACH;FMTTYPE=image/jpeg:https://messe-muehlviertel.at/wp-content/uploads/2026/02/Kapitaen-1939-027_Gottfried-Pilz-scaled.jpg
END:VEVENT
BEGIN:VEVENT
DTSTART;TZID=Europe/Vienna:20260515T200000
DTEND;TZID=Europe/Vienna:20260515T200000
DTSTAMP:20260424T100825
CREATED:20260120T122040Z
LAST-MODIFIED:20260120T122040Z
UID:7492-1778875200-1778875200@messe-muehlviertel.at
SUMMARY:EDMUND
DESCRIPTION:AUSTROPOP \nEndlich wieder richtiger Austropop – das hört man oft\, wenn über das Duo Edmund aus dem Wienerwald gesprochen wird. Roman Messner und Markus Kadensky schreiben wunderschöne zweistimmige Mundartsongs aus dem Bauch heraus\, vereinen darin das Beste des alten Austropop mit aktuellem Songwriting und treffen damit gemischt mit einer guten Portion Rock voll ins Schwarze. Ein Edmund Konzert ist ein besonderes Erlebnis. Textsicher singen die Fans mit der Band\, was ein wunderschönes Gemeinschaftsgefühl erzeugt. \nDie Songs von Edmund drehen sich ums Scheitern\, ums Wiederaufstehen\, und von Beziehungen\, die nicht immer so einfach sind\, wie man es sich wünschen würde. Edmund nehmen sich kein Blatt vor den Mund und drücken Dinge oft sehr direkt und mit einer präzisen Sprache aus. Das dürfte auch genau das sein\, was ihre Fans so an ihnen lieben\, sie sprechen ihnen aus der Seele. Und mal ganz ehrlich\, wer den Namen von Edmund „Mundl“ Sackbauer als Bandname wählt\, den kann man eigentlich nur mögen. \nFreindschoft“ (2018)  chartete  auf #4 der Albumcharts\, „Leiwand“ (2020) auf #2\, und „Fein“ (2022) auf #1. Auch das aktuelle Album „Legende“ chartete auf #1 der Albumcharts. Die Edmund Album waren seitdem in Summe über 300 Wochen in den österreichischen Albumcharts. Viele Alben und Singles haben Edelmetallstatus erreicht\, einige davon sogar Doppelplatin- Status. \nDie Songs von Edmund wurden 90 Millionen mal auf Spotify angehört. 35 Millionen Views auf ihre Musikvideos auf Youtube ist überaus beeindruckend für eine Mundart-Band\, die vor allem in Österreich und Bayern ihre Fans hat. \nFür ihr Album „Leiwand“ waren „Edmund“ waren gleich 3-mal für den Amadeus Austrian Music Award nominiert. In den Kategorien „Album des Jahres“ für das Album „Leiwand“\, in der Kategorie „Song des Jahres“ für die Single „Leiwand“ und in der Kategorie Pop-Rock. Gewonnen haben sie die Kategorie „Album des Jahres“!  Eine wirklich schöne Anerkennung nach mehreren Jahren intensiver Arbeit der Musiker Markus Kadensky und Roman Messner\, die sich vor allem durch eine stetig wachsende Fanbase ausgezeichnet hat. Ihre ehrlichen Austropop-Songs treffen mitten ins Herz und gehen oft unter die Haut. Die Fans lieben die Songs\, weil sie ohne große Umschweife auf den Punkt kommen und den Menschen aus der Seele sprechen. Die Band geht konstant ihren Weg weiter und liefert Austropop mit der nötigen Prise Freshness. \n  \n\n\n\n\n\nTicket Infos:\nVorverkauf: local-buehne.at/tickets  \nUND \nwww.oeticket.com \nlokaler Vorverkauf im Kino Freistadt in der Salzgasse
URL:https://messe-muehlviertel.at/veranstaltung/edmund-2/
LOCATION:Messehalle Freistadt\, Am Stieranger 10\, Freistadt\, 4240\, Austria
CATEGORIES:Konzerte
ATTACH;FMTTYPE=image/jpeg:https://messe-muehlviertel.at/wp-content/uploads/2026/01/260515-Edmund-1500.jpg
ORGANIZER;CN="Local B%C3%BChne Freistadt":MAILTO:office@local-buehne.at
END:VEVENT
BEGIN:VEVENT
DTSTART;TZID=Europe/Vienna:20260517T190000
DTEND;TZID=Europe/Vienna:20260517T190000
DTSTAMP:20260424T100825
CREATED:20251105T093842Z
LAST-MODIFIED:20251112T082246Z
UID:7184-1779044400-1779044400@messe-muehlviertel.at
SUMMARY:Rock the Circus - Musik für die Augen
DESCRIPTION:Der Überraschungserfolg der letzten Jahre – die einzigartige Show\nvoller atemberaubender Artistik und legendärer Rock-Hymnen!\n\n\nMusik für die Augen – ein wahrhaft mitreißendes Erlebnis\nErleben Sie die einzigartige Show „Rock The Circus – Musik für die Augen“\, die die pulsierende Energie eines Rockkonzerts mit Weltklasse-Zirkusartistik vereint. Tauchen Sie ein in eine neue Kunstform\, in der legendäre Rock-Hymnen live von der fantastischen „Rock The Circus“-Band gespielt werden. Erleben Sie zeitlose\, packende Hits von AC/DC\, Bon Jovi\, Guns N‘ Roses\, Pink Floyd\, Queen\, den Red Hot Chili Peppers und mehr\, während Sie Zeuge meisterhafter Akrobatik werden und sich von der energiegeladenen Atmosphäre mitreißen lassen. Rock The Circus ist eine Show\, die Sie so schnell nicht mehr vergessen werden! \nAtemberaubende Artistik und legendäre Rock-Klassiker\nGenießen Sie nicht nur musikalische Höchstleistungen\, sondern auch spektakuläre Akrobatik und magische Artistik\, perfekt abgestimmt auf die Songs aus 50 Jahren Rockgeschichte. Talentierte Artistinnen und Artisten zeigen spektakuläre Kunststücke\, die die ganze Bandbreite hochkarätiger Akrobatik abdecken. Von raffinierter Jonglage und Seilartistik über beeindruckende Pole-Dance-Einlagen bis hin zu atemberaubender Sprung-Akrobatik – das alles und noch viel mehr erwartet Sie in Rock The Circus. Untermalt werden diese fantastischen Kunststücke von Rockmusik\, die das Publikum von den Plätzen holt! „Rock The Circus“ bietet ein unvergessliches Erlebnis für Augen und Ohren – Circus meets Rock Music\, hier trifft maximale Körperbeherrschung auf mitreißende Rockmusik. \nRock The Circus: Sensationell! Mitreißend! Spektakulär!\n„Hochgenuss“ – „Wahnsinn“ – „einfach nur genial“! „Rock The Circus – Musik für die Augen“ begeistert seit Jahren ein breites Publikum und lässt die Herzen echter Rockfans höherschlagen. Die herausragende Kombination von circus & rock music verbindet das Beste aus zwei Welten miteinander – und zwar auf so einzigartige Art und Weise\, dass die Zuschauer einfach nicht genug davon bekommen. Aufgrund der großen Nachfrage seit der Premiere im Jahr 2018 geht „Rock The Circus“ nun erneut auf eine umfassende Tournee durch ganz Deutschland & Österreich. Sichern Sie sich jetzt Ihre Tickets für einen Abend voller Akrobatik\, Artistik\, Songs und Sensationen. \nTicketverkauf: \nhttps://rock-the-circus.reservix.de/tickets-rock-the-circus-musik-fuer-die-augen-in-freistadt-messe-muehlviertel-messehalle-am-17-5-2026/e2475751 \nUND \nhttps://www.oeticket.com/event/rock-the-circus-freistaedter-messehalle-20879340/ \n  \n 
URL:https://messe-muehlviertel.at/veranstaltung/rock-the-circus-musik-fuer-die-augen/
LOCATION:Messehalle 2 Freistadt\, Am Stieranger 10\, Freistadt\, 4240\, Austria
CATEGORIES:Konzerte
ATTACH;FMTTYPE=image/jpeg:https://messe-muehlviertel.at/wp-content/uploads/2025/11/detailGroup_230174.jpg
ORGANIZER;CN="Reset Production e.K.":MAILTO:felicitas.albrecht@resetproduction.de
END:VEVENT
END:VCALENDAR