BEGIN:VCALENDAR
VERSION:2.0
PRODID:-//Messe Mühlviertel, seit 1862 - ECPv6.15.20//NONSGML v1.0//EN
CALSCALE:GREGORIAN
METHOD:PUBLISH
X-ORIGINAL-URL:https://messe-muehlviertel.at
X-WR-CALDESC:Veranstaltungen für Messe Mühlviertel, seit 1862
REFRESH-INTERVAL;VALUE=DURATION:PT1H
X-Robots-Tag:noindex
X-PUBLISHED-TTL:PT1H
BEGIN:VTIMEZONE
TZID:Europe/Vienna
BEGIN:DAYLIGHT
TZOFFSETFROM:+0100
TZOFFSETTO:+0200
TZNAME:CEST
DTSTART:20250330T010000
END:DAYLIGHT
BEGIN:STANDARD
TZOFFSETFROM:+0200
TZOFFSETTO:+0100
TZNAME:CET
DTSTART:20251026T010000
END:STANDARD
BEGIN:DAYLIGHT
TZOFFSETFROM:+0100
TZOFFSETTO:+0200
TZNAME:CEST
DTSTART:20260329T010000
END:DAYLIGHT
BEGIN:STANDARD
TZOFFSETFROM:+0200
TZOFFSETTO:+0100
TZNAME:CET
DTSTART:20261025T010000
END:STANDARD
BEGIN:DAYLIGHT
TZOFFSETFROM:+0100
TZOFFSETTO:+0200
TZNAME:CEST
DTSTART:20270328T010000
END:DAYLIGHT
BEGIN:STANDARD
TZOFFSETFROM:+0200
TZOFFSETTO:+0100
TZNAME:CET
DTSTART:20271031T010000
END:STANDARD
END:VTIMEZONE
BEGIN:VEVENT
DTSTART;TZID=Europe/Vienna:20260307T090000
DTEND;TZID=Europe/Vienna:20260308T170000
DTSTAMP:20260424T101311
CREATED:20251105T085523Z
LAST-MODIFIED:20260309T070841Z
UID:7175-1772874000-1772989200@messe-muehlviertel.at
SUMMARY:Freistädter Motorshow 2026
DESCRIPTION:Freistädter Motorshow\nAm 7. und 8. März 2026 findet die nächste Freistädter Motorshow in der Messehalle statt. Die Motorshow verspricht wieder ein Highlight für Autoenthusiasten und zukunftsorientierte Fahrzeugliebhaber zu werden. \nÖFFUNUNGSZEITEN:  09:00 – 17:00 UHR\n  EINTRITT:  15 – 18 Jahre  € 5.-\n                       ab 18 Jahre  € 7.-
URL:https://messe-muehlviertel.at/veranstaltung/freistaedter-motorshow-2026/
CATEGORIES:Messetermine
ATTACH;FMTTYPE=image/jpeg:https://messe-muehlviertel.at/wp-content/uploads/2025/11/p1040029720803382026_big.jpg
END:VEVENT
BEGIN:VEVENT
DTSTART;TZID=Europe/Vienna:20260321T090000
DTEND;TZID=Europe/Vienna:20260322T170000
DTSTAMP:20260424T101311
CREATED:20251105T082540Z
LAST-MODIFIED:20251105T082540Z
UID:7168-1774083600-1774198800@messe-muehlviertel.at
SUMMARY:2. Mühlviertler Modellbaumesse
DESCRIPTION:
URL:https://messe-muehlviertel.at/veranstaltung/2-muehlviertler-modellbaumesse/
CATEGORIES:Messetermine
ATTACH;FMTTYPE=image/jpeg:https://messe-muehlviertel.at/wp-content/uploads/2025/11/MBM-2026_Bauzaunblende-scaled.jpg
ORGANIZER;CN="Messe M%C3%BChlviertel":MAILTO:office@messe-muehlviertel.at
END:VEVENT
BEGIN:VEVENT
DTSTART;TZID=Europe/Vienna:20260327T200000
DTEND;TZID=Europe/Vienna:20260327T200000
DTSTAMP:20260424T101311
CREATED:20250507T103631Z
LAST-MODIFIED:20250507T103631Z
UID:6005-1774641600-1774641600@messe-muehlviertel.at
SUMMARY:MARTINA SCHWARZMANN
DESCRIPTION:Martina Schwarzmann macht was Sie will so heißt ihr neues Programm und jetzt zieht sie´s durch! Was Sie an dem Abend machen wird\, überlegt sie sich noch. \nWoher will man auch wissen\, was man in einem halben Jahr möchte oder am nächsten Tag…\nVielleicht spielt sie was Neues\, vielleicht aber auch ein paar Klassiker\, die so alt sind\, dass sich keiner mehr dran erinnern kann… Ist das wahr? Wer weiß?\nGut und zeitlos sind nur zwei „Wiewörter“\, die man in einem Aufsatz über sie benutzen könnte. \nManchmal wenn Martina Schwarzmann unleidig wird\, dann schicken die Kinder sie raus zum Spielen.\nDas macht sie dann\, sie spielt für Euch!\nAus Liebe mit Leidenschaft\, um die Freude\, den Frieden und den Eierkuchen in Euer Leben zu bringen. Sie spielt für alle und es geht um Alles! \n\nTicket Infos\nKUPFticket\nlokaler Vorverkauf im Kino Freistadt in der Salzgasse zu den Öffnungszeiten \nVorverkauf: kupfticket.com/shops/lb\nVorverkauf Platzkarten EUR 38 / 42 / 46 \nAbendkasse: + 4\,-
URL:https://messe-muehlviertel.at/veranstaltung/martina-schwarzmann-3/
LOCATION:Messehalle Freistadt\, Am Stieranger 10\, Freistadt\, 4240\, Austria
CATEGORIES:Kabarett
ATTACH;FMTTYPE=image/jpeg:https://messe-muehlviertel.at/wp-content/uploads/2025/05/4-0891Martina_Schwarzmann_macht-was-sie-will_c_Gregor-Wiebe-1.jpg
ORGANIZER;CN="Local B%C3%BChne Freistadt":MAILTO:office@local-buehne.at
END:VEVENT
END:VCALENDAR