BEGIN:VCALENDAR
VERSION:2.0
PRODID:-//Messe Mühlviertel, seit 1862 - ECPv6.15.20//NONSGML v1.0//EN
CALSCALE:GREGORIAN
METHOD:PUBLISH
X-ORIGINAL-URL:https://messe-muehlviertel.at
X-WR-CALDESC:Veranstaltungen für Messe Mühlviertel, seit 1862
REFRESH-INTERVAL;VALUE=DURATION:PT1H
X-Robots-Tag:noindex
X-PUBLISHED-TTL:PT1H
BEGIN:VTIMEZONE
TZID:Europe/Vienna
BEGIN:DAYLIGHT
TZOFFSETFROM:+0100
TZOFFSETTO:+0200
TZNAME:CEST
DTSTART:20240331T010000
END:DAYLIGHT
BEGIN:STANDARD
TZOFFSETFROM:+0200
TZOFFSETTO:+0100
TZNAME:CET
DTSTART:20241027T010000
END:STANDARD
BEGIN:DAYLIGHT
TZOFFSETFROM:+0100
TZOFFSETTO:+0200
TZNAME:CEST
DTSTART:20250330T010000
END:DAYLIGHT
BEGIN:STANDARD
TZOFFSETFROM:+0200
TZOFFSETTO:+0100
TZNAME:CET
DTSTART:20251026T010000
END:STANDARD
BEGIN:DAYLIGHT
TZOFFSETFROM:+0100
TZOFFSETTO:+0200
TZNAME:CEST
DTSTART:20260329T010000
END:DAYLIGHT
BEGIN:STANDARD
TZOFFSETFROM:+0200
TZOFFSETTO:+0100
TZNAME:CET
DTSTART:20261025T010000
END:STANDARD
END:VTIMEZONE
BEGIN:VEVENT
DTSTART;TZID=Europe/Vienna:20251108T200000
DTEND;TZID=Europe/Vienna:20251108T230000
DTSTAMP:20260424T170706
CREATED:20241031T071654Z
LAST-MODIFIED:20241031T071655Z
UID:5607-1762632000-1762642800@messe-muehlviertel.at
SUMMARY:NIK P. & Band
DESCRIPTION:Nik P. & Band –\nAuf zur großen Hallen TOUR 2025!  \nMessehalle Freistadt – Beginn: 20:00 Uhr | Einlass: 19:00 Uhr \nNik P.\, einer der erfolgreichsten Musiker und Produzenten des Landes\, kehrt im Herbst 2025 mit einer ganz besonderen Tour zurück auf die Bühnen seiner Heimat. Gemeinsam mit seinem Veranstalter Semtainment hat Nik P. einen einzigartigen Tourplan entwickelt\, der die Fans auf eine musikalische Reise mitnimmt\, wie sie Österreich so noch nicht erlebt hat. \n„Ich freue mich riesig auf diese Tour und die Möglichkeit\, in Locations aufzutreten\, die für uns völlig neu sind\,“ erklärt Nik P. voller Vorfreude. „Wir sind so voller Energie und ich kann es kaum erwarten\, die Stimmung in diesen außergewöhnlichen Venues mit meiner Band erleben zu dürfen.“ \nStatt auf die großen\, bekannten Hallen zu setzen\, wurden diesmal bewusst neue\, spannende Venues ausgewählt – Orte\, die eine intime\, fast persönliche Atmosphäre schaffen. „Wir wollten für diese Tour etwas völlig anderes machen\, um eine besondere Nähe zu den Fans zu erzeugen\,“ so der charismatische Künstler. \nDie Vorfreude ist riesig – nicht nur bei Nik P.\, sondern auch bei seinen Fans\, die sich auf eine Mischung aus seinen größten Hits und brandneuen Arrangements freuen dürfen. „Es ist immer etwas Besonderes\, wenn man etwas Neues ausprobiert und mit vollem Herzen dabei ist\,“ sagt der Musiker\, dessen Leidenschaft für die Bühne ungebrochen ist. \nDie Termine der großen Österreich-Tour: \n\n12.09.2025 | Orpheum Graz\n03.10.2025 | Eventcenter Hohenems\n04.10.2025 | Dogana Messe Innsbruck\n07.11.2025 | Raiffeisen Halle Gasometer\n08.11.2025 | Messe Mühlviertel\n\nTickets für die große Hallen Tour gibt es ab dem 31.10.2024 um 11 Uhr in allen Ö- Ticket Vorverkaufsstellen sowie online auf www.oeticket.com & unter www.semtainment.at
URL:https://messe-muehlviertel.at/veranstaltung/nik-p-band-2/
LOCATION:Messehalle Freistadt\, Am Stieranger 10\, Freistadt\, 4240\, Austria
CATEGORIES:Konzerte,Messetermine
ATTACH;FMTTYPE=image/png:https://messe-muehlviertel.at/wp-content/uploads/2024/10/Nik-P.-Tour-2025-Messe-Muehlviertel-Plakat.png
ORGANIZER;CN="SEMTAINMENT GmbH & Co KG":MAILTO:office@seg.show
END:VEVENT
BEGIN:VEVENT
DTSTART;TZID=Europe/Vienna:20251118T193000
DTEND;TZID=Europe/Vienna:20251118T193000
DTSTAMP:20260424T170706
CREATED:20241202T054529Z
LAST-MODIFIED:20241202T054529Z
UID:5637-1763494200-1763494200@messe-muehlviertel.at
SUMMARY:GERY SEIDL – Aufputzt is!
DESCRIPTION:Dienstag. 18.11.2025 – Beginn: 19:30 Uhr\nEinlass: 18:30 Uhr\n@ Messehalle / Freistadt \nWas kann schöner sein\, als einmal im Kreise der Familie in aller Ruhe und Besinnlichkeit das Fest des Jahres zu begehen.\nAndere feiern doch auch Weihnachten mitsammen.\nWenn das Essen dann fertig ist\, der Tisch festlich gedeckt\, wenn die Geschenke fertig eingepackt sind\, der Baum geschmückt …\nBald sind alle da. Fein. Wäre da nicht diese Türe.\nEine kleine Unachtsamkeit.\nUnd das Verhängnis nimmt seinen Lauf …\nAufputzt is – Ein Weihnachtsdebakel\nvon und mit Gery Seidl.\nwww.geryseidl.at \nVVK Stellen:\nVorverkauf in allen Ö-Ticket Filialen\, www.oeticket.com \, in allen Raiffeisen Banken\, sowie print@home Tickets auf www.fg-events.at\nFacebook Eventlink: https://www.facebook.com/events/972382151399520
URL:https://messe-muehlviertel.at/veranstaltung/gery-seidl-aufputzt-is/
LOCATION:Messehalle Freistadt\, Am Stieranger 10\, Freistadt\, 4240\, Austria
CATEGORIES:Kabarett,Messetermine
ATTACH;FMTTYPE=image/jpeg:https://messe-muehlviertel.at/wp-content/uploads/2024/12/GS_aufputzt_quer_presse2.jpg
ORGANIZER;CN="FG Event Productions OG":MAILTO:office@fg-events.at
END:VEVENT
BEGIN:VEVENT
DTSTART;TZID=Europe/Vienna:20251122T210000
DTEND;TZID=Europe/Vienna:20251122T210000
DTSTAMP:20260424T170706
CREATED:20251022T091143Z
LAST-MODIFIED:20251022T091143Z
UID:7131-1763845200-1763845200@messe-muehlviertel.at
SUMMARY:90er Party
DESCRIPTION:Back to the 90`s – Die Party & Zeitreise @ Messehalle Freistadt ist für alle\, die die 90er Jahre lieben und immer wieder aufs Neue zelebrieren. Wir machen das kunterbunte Jahrzehnt erlebbar. Tanzen\, flirten\, feiern – mit euch! \nDie 90er sind endlich wieder da! Kassettenweise Partyhits von:\nLos del Rio (Macarena)\, Vengaboys\, Gigi D’Agostino\, Robbie Williams\, SNAP!\, Haddaway\, Die Fantastischen Vier\, Whigfield\, Die Ärzte\, Backstreet Boys\, Spice Girls\, Britney Spears\, Aqua\, Dr. Alban oder Lou Bega – wir haben sie alle und noch viel mehr. \nHier treffen deine Lieblingslieder auf deine Jugendsünden – eine explosive Mischung\, die dir eine unvergessliche Nacht bescheren wird! \nDatum: Samstag\, 22.11.2025\nEinlass: Ab 21:00 Uhr\nOrt: Messehalle Freistadt\nBest of 8s\, 90s & 2000er – ALL NIGHT LONG\nFSK 21+ (Ausweispflicht!) \nGarderobe für 1000 Jacken vorhanden\nFOODTRUCK für den Hunger zwischendurch \nTICKETS: VVK 10\,- / AK 15\,- (Wenn das Event im Vorhinein ausverkauft ist\, wird es keine AK geben!) \nWorauf wartest du noch? Staub deine alten Band-Shirts ab\, kram deine Buffalos hervor und lass uns gemeinsam eine Nacht voller 90er-Hits und Erinnerungen erleben! \nVorverkauf unter: https://www.oeticket.com/eventseries/90er-party-messehalle-freistadt-4006917/ \n  \n 
URL:https://messe-muehlviertel.at/veranstaltung/90er-party/
LOCATION:Messehalle 2 Freistadt\, Am Stieranger 10\, Freistadt\, 4240\, Austria
ATTACH;FMTTYPE=image/jpeg:https://messe-muehlviertel.at/wp-content/uploads/2025/10/90er_Party_Messehalle_Freistadt_c_shutterstock_222.jpg
END:VEVENT
END:VCALENDAR