BEGIN:VCALENDAR
VERSION:2.0
PRODID:-//Messe Mühlviertel, seit 1862 - ECPv6.15.20//NONSGML v1.0//EN
CALSCALE:GREGORIAN
METHOD:PUBLISH
X-ORIGINAL-URL:https://messe-muehlviertel.at
X-WR-CALDESC:Veranstaltungen für Messe Mühlviertel, seit 1862
REFRESH-INTERVAL;VALUE=DURATION:PT1H
X-Robots-Tag:noindex
X-PUBLISHED-TTL:PT1H
BEGIN:VTIMEZONE
TZID:Europe/Vienna
BEGIN:DAYLIGHT
TZOFFSETFROM:+0100
TZOFFSETTO:+0200
TZNAME:CEST
DTSTART:20240331T010000
END:DAYLIGHT
BEGIN:STANDARD
TZOFFSETFROM:+0200
TZOFFSETTO:+0100
TZNAME:CET
DTSTART:20241027T010000
END:STANDARD
BEGIN:DAYLIGHT
TZOFFSETFROM:+0100
TZOFFSETTO:+0200
TZNAME:CEST
DTSTART:20250330T010000
END:DAYLIGHT
BEGIN:STANDARD
TZOFFSETFROM:+0200
TZOFFSETTO:+0100
TZNAME:CET
DTSTART:20251026T010000
END:STANDARD
BEGIN:DAYLIGHT
TZOFFSETFROM:+0100
TZOFFSETTO:+0200
TZNAME:CEST
DTSTART:20260329T010000
END:DAYLIGHT
BEGIN:STANDARD
TZOFFSETFROM:+0200
TZOFFSETTO:+0100
TZNAME:CET
DTSTART:20261025T010000
END:STANDARD
END:VTIMEZONE
BEGIN:VEVENT
DTSTART;TZID=Europe/Vienna:20251004T140000
DTEND;TZID=Europe/Vienna:20251004T140000
DTSTAMP:20260424T203224
CREATED:20251002T071632Z
LAST-MODIFIED:20251002T071632Z
UID:7065-1759586400-1759586400@messe-muehlviertel.at
SUMMARY:Gedenkveranstaltung "500 Jahre Täuferbewegung"
DESCRIPTION:Herzliche Einladung zur Gedenkveranstaltung „500 Jahre Täuferbewegung“ am Sa. 4. Oktober 2025 in Freistadt\, Oberösterreich\, Messehalle. Eintritt frei. \nDas Ensemble „Carmina Sacra“ wird mit 100 Musikern und Sänger „Lobgesang“ von Felix Mendelssohn-Bartholdy\, Symphonie Nr. 2\, op. 52\, um 19:00 Uhr unter der Leitung unseres Vorstandsmitglieds Mag. Heinz Schaidinger\, aufführen. \nUm 14:00 Uhr gibt es eine Kuratoriumsführung durch die Täuferausstellung „Brennen für das LEBEN“ zu der alle herzlich eingeladen sind. \nPDoz. Dr. Astrid von Schlachta wird uns in die Täufergeschichte und die Theologie der Täufer eintauchen lassen. \nBeginnen werden wir den Gedenkabend mit dem Lied „O Herr\, wie reichlich tröstest du“ von Peter Riedemann\, der von 1529 bis 1532 wegen seines täuferischen Glaubens in Gmunden im Gefängnis saß. Dargeboten auf einem deutschen Dudelsack von Alexander Basnar. \nDer Eintritt für alle Veranstaltungen ist frei. Auch freie Platzwahl in der Messehalle. Parkplätze sind um die Messehalle vorhanden. \n 
URL:https://messe-muehlviertel.at/veranstaltung/gedenkveranstaltung-500-jahre-taeuferbewegung/
LOCATION:Messehalle 2 Freistadt\, Am Stieranger 10\, Freistadt\, 4240\, Austria
CATEGORIES:Konzerte
ATTACH;FMTTYPE=image/png:https://messe-muehlviertel.at/wp-content/uploads/2025/10/Screenshot-2025-10-02-090931.png
END:VEVENT
BEGIN:VEVENT
DTSTART;TZID=Europe/Vienna:20251011T170000
DTEND;TZID=Europe/Vienna:20251012T030000
DTSTAMP:20260424T203224
CREATED:20250807T101357Z
LAST-MODIFIED:20250807T101357Z
UID:6556-1760202000-1760238000@messe-muehlviertel.at
SUMMARY:Maturaball der HLW | HLK Freistadt
DESCRIPTION:MATURA MATATA – ein königlicher Abgang!
URL:https://messe-muehlviertel.at/veranstaltung/maturaball-der-hlw-hlk-freistadt/
LOCATION:Messehalle Freistadt\, Am Stieranger 10\, Freistadt\, 4240\, Austria
ATTACH;FMTTYPE=image/png:https://messe-muehlviertel.at/wp-content/uploads/2025/08/Screenshot-2025-08-07-at-12-04-00-Instagram.png
END:VEVENT
BEGIN:VEVENT
DTSTART;TZID=Europe/Vienna:20251025T190000
DTEND;TZID=Europe/Vienna:20251025T190000
DTSTAMP:20260424T203224
CREATED:20250924T071043Z
LAST-MODIFIED:20250924T071043Z
UID:7042-1761418800-1761418800@messe-muehlviertel.at
SUMMARY:Podiumsdiskussion "Quo vadis Austria?"
DESCRIPTION:Podiumsdiskussion  \nQuo vadis Austria III \nF. Wegscheider\, U. Guérot\, M. Haditsch\, R. Düringer \nWas machen wir\, wenn …?\nEine Diskussion ohne vorgefasste Meinung\, frei von Politik und Mainstream – ein ganz besonderer Abend! \nFerdinand Wegscheider ist Intendant des privaten Fernsehsenders ServusTV und gilt als österreichischer Privatfernsehpionier. Bei ServusTV gestaltet er samstags den mit satirischem Anspruch konzipierten Wochenrückblick Der Wegscheider\, in dem er aktuelle Geschehnisse in Politik und Medien kommentiert. \nUlrike Guérot beschäftigt sich seit rund 30 Jahren akademisch und politisch mit dem Thema Europa in seinen verschiedenen Funktionen und Facetten – und arbeitet auf vielfältige Weise daran\, die Zukunft dieses Kontinentes in Einheit\, Frieden & Freiheit zu gestalten! \nMartin Haditsch hat sich als Fachmann in den letzten Jahren mit den verschiedenen Strömungen in der Medizin umfassend auseinandergesetzt und einige sehr informative Filme dazu gedreht\, welche die aktuelle Situation weltweit beleuchten. \nRoland Düringer ist als Schauspieler und Kabarettist einem breiten österreichischen Publikum bekannt. Sein Film „Hinterholz 8“ gilt nach wie vor als erfolgreichste österreichische Kinoproduktion\, er selbst wurde mit der „Goldenen Romy“ ausgezeichnet. Weitere Erfolge waren Filme wie „Muttertag“\, „Poppitz“ oder „Die Gipfelzipfler“ sowie die Fernsehserie „MA2412“. \nBeginn: 19:00 Uhr\, Einlass: 18:00 Uhr \nPreis je Ticket: Euro 49\,00  |  Abendkasse: Euro 54\,00 \nTicketverkauf unter: https://www.menschheitsfamilie.at/?S=Tickets&D=sWHMvi0fUAkKoqE2
URL:https://messe-muehlviertel.at/veranstaltung/podiumsdiskussion-quo-vadis-austria/
LOCATION:Messehalle Freistadt\, Am Stieranger 10\, Freistadt\, 4240\, Austria
ATTACH;FMTTYPE=image/jpeg:https://messe-muehlviertel.at/wp-content/uploads/2025/09/2025-10-25_talk_freistadt_A4-scaled.jpg
ORGANIZER;CN="Johann Peter Schutte MBA":MAILTO:office@menschheitsfamilie.at
END:VEVENT
BEGIN:VEVENT
DTSTART;TZID=Europe/Vienna:20251030T200000
DTEND;TZID=Europe/Vienna:20251030T230000
DTSTAMP:20260424T203224
CREATED:20240918T042651Z
LAST-MODIFIED:20250924T123710Z
UID:5482-1761854400-1761865200@messe-muehlviertel.at
SUMMARY:Addnfahrer - Lausbuam Gschicht´n
DESCRIPTION:Einlass: 19:00 Uhr\nBeginn: 20:00 Uhr \nVorverkauf in allen ÖT-Filialen\, www.oeticket.com  sowie print@home Tickets auf www.fg-events.at \nFacebook Eventlink: https://www.facebook.com/events/498383546297837 \n 
URL:https://messe-muehlviertel.at/veranstaltung/addnfahrer-lausbuam-gschichtn/
LOCATION:Messehalle 2 Freistadt\, Am Stieranger 10\, Freistadt\, 4240\, Austria
CATEGORIES:Kabarett,Messetermine
ATTACH;FMTTYPE=image/jpeg:https://messe-muehlviertel.at/wp-content/uploads/2024/09/Addnfahrer-Lausbuam-Dateien-FINAL_Social-Media-Post-mit-002-scaled.jpg
ORGANIZER;CN="FG Event Productions OG":MAILTO:office@fg-events.at
END:VEVENT
END:VCALENDAR