BEGIN:VCALENDAR
VERSION:2.0
PRODID:-//Messe Mühlviertel, seit 1862 - ECPv6.15.20//NONSGML v1.0//EN
CALSCALE:GREGORIAN
METHOD:PUBLISH
X-WR-CALNAME:Messe Mühlviertel, seit 1862
X-ORIGINAL-URL:https://messe-muehlviertel.at
X-WR-CALDESC:Veranstaltungen für Messe Mühlviertel, seit 1862
REFRESH-INTERVAL;VALUE=DURATION:PT1H
X-Robots-Tag:noindex
X-PUBLISHED-TTL:PT1H
BEGIN:VTIMEZONE
TZID:Europe/Vienna
BEGIN:DAYLIGHT
TZOFFSETFROM:+0100
TZOFFSETTO:+0200
TZNAME:CEST
DTSTART:20240331T010000
END:DAYLIGHT
BEGIN:STANDARD
TZOFFSETFROM:+0200
TZOFFSETTO:+0100
TZNAME:CET
DTSTART:20241027T010000
END:STANDARD
BEGIN:DAYLIGHT
TZOFFSETFROM:+0100
TZOFFSETTO:+0200
TZNAME:CEST
DTSTART:20250330T010000
END:DAYLIGHT
BEGIN:STANDARD
TZOFFSETFROM:+0200
TZOFFSETTO:+0100
TZNAME:CET
DTSTART:20251026T010000
END:STANDARD
BEGIN:DAYLIGHT
TZOFFSETFROM:+0100
TZOFFSETTO:+0200
TZNAME:CEST
DTSTART:20260329T010000
END:DAYLIGHT
BEGIN:STANDARD
TZOFFSETFROM:+0200
TZOFFSETTO:+0100
TZNAME:CET
DTSTART:20261025T010000
END:STANDARD
END:VTIMEZONE
BEGIN:VEVENT
DTSTART;TZID=Europe/Vienna:20250914T190000
DTEND;TZID=Europe/Vienna:20250914T190000
DTSTAMP:20260424T222208
CREATED:20250312T105851Z
LAST-MODIFIED:20250312T105851Z
UID:5799-1757876400-1757876400@messe-muehlviertel.at
SUMMARY:PERPETUUM JAZZILE Vocal Ecstacy
DESCRIPTION:THE WORLDWIDE SINGING PHENOMENON ON WORLD TOUR 2025\n\nPERPETUUM JAZZILE gilt als eine der größten und spektakulärsten Gesangsgruppen der Welt. Das von Kritikern hochgelobte Vokalorchester aus Slowenien ist berühmt für seine starken und satten Rhythmen und Harmonien\, ihrer unvergleichliche Kreativität und positiven Energie und einer Vielfalt an Musikrichtungen\, die Sie nur mit ihren Stimmen interpretieren – Pop\, Rock\, Jazz\, Gospel\, Blues\, Bossa Nova\, Disco\, Funk\, Etno und andere. \nDas reichhaltige Konzertrepertoire von Perpetuum Jazzile umfasst einzigartige Gesangsarrangements weltberühmter Künstler und musikalische Perlen wie ABBA\, Toto\, Michael Jackson\, The Queen\, Daft Punk\, David Guetta\, Lady Gaga\,Erde\, Earth Wind & Fire\, Billy Joel\, David Bowie\, Joni Mitchell\, George Benson\, Bee Gees und anderen Legenden. Fakt ist – Ein Perpetuum Jazzile-Konzert beschert dem Publikum ein einzigartiges Musikerlebnis. \nPERPETUUM JAZZILE ist mit über 90 Millionen Aufrufen das beliebteste Vokalorchester auf YouTube (Afrika liegt mit mehr als 22 Millionen Aufrufen an der Spitze). Ihre Musikvideos gehören regelmäßig zu den 40 beliebtesten Videos auf YouTube. \nPERPETUUM JAZZILE ist eine Premium Live-Show Produktion exklusiv veranstaltet in AUT\, D von THE SHOW MAKERS! \nwww.the-show-makers.com \nVeranstalter: Europolis Entertainment e.U.\, Hollergasse 32/6\, 1150 Wien \nEmail: ticketing@europolis-entertainment.eu \nAbendkasse ab: 18 Uhr\nEinlass ab: 18 Uhr
URL:https://messe-muehlviertel.at/veranstaltung/perpetuum-jazzile-vocal-ecstacy/
LOCATION:Messehalle Freistadt\, Am Stieranger 10\, Freistadt\, 4240\, Austria
CATEGORIES:Konzerte,Messetermine
ATTACH;FMTTYPE=image/jpeg:https://messe-muehlviertel.at/wp-content/uploads/2025/03/event_375_orig.jpg
END:VEVENT
BEGIN:VEVENT
DTSTART;TZID=Europe/Vienna:20250927T193000
DTEND;TZID=Europe/Vienna:20250927T193000
DTSTAMP:20260424T222208
CREATED:20250312T111018Z
LAST-MODIFIED:20250312T111018Z
UID:5802-1759001400-1759001400@messe-muehlviertel.at
SUMMARY:THE MAGIC OF ABBA
DESCRIPTION:EUROPE’S NO1 ABBA CONCERT SHOW mit Live Band!\nSIE KOMMEN WIEDER – NACH AUSVERKAUFT IM APRIL 2024\, EINER GRANDIOSEN SHOW UND EINEM RESTLOS BEGEISTERTEM PUBLIKUM – SORGEN SIE AUCH 2025 WIEDER FÜR ABBA FEELING IN DER MESSEHALLE. \nSO NAH AM EINZIGARTIGEN ABBA SOUND WIE KEINE ANDERE ABBA SHOW! \nJETZT SCHON DIE BESTEN TICKETS FÜR DIESES SHOW SPEKTAKEL SICHERN. \n120 Minuten Hit auf Hit – machen es einem unmöglich\, sitzen zu bleiben! DIE Messhalle wird wieder beben – das können wir garantieren. Gemeinsam zu den ABBA Hits singen und tanzen\, ist das Motto dieser einmaligen und fast überall ausverkauften Show. \nImpressionen vom Open AirbKonzert in der Burgarena Finkenstein 2022:\nhttps://youtube.com/shorts/bUUNvyhh3yo?feature=share \nTHE MAGIC OF ABBA ist eine Premium Live-Show Produktion von THE SHOW MAKERS! \nwww.the-show-makers.com \nVeranstalter: Europolis Entertainment e.U.\, Hollergasse 32/6\, 1150 Wien – Email: ticketing@europolis-entertainment.eu \nAbendkasse ab: 18.30 Uhr (aber Achtung – 2024 schon weit vor dem Konzerttag ausverkauft)\nEinlass ab: 18.30 Uhr
URL:https://messe-muehlviertel.at/veranstaltung/the-magic-of-abba-2/
LOCATION:Messehalle Freistadt\, Am Stieranger 10\, Freistadt\, 4240\, Austria
CATEGORIES:Konzerte,Messetermine
ATTACH;FMTTYPE=image/jpeg:https://messe-muehlviertel.at/wp-content/uploads/2025/03/ABBA.jpg
END:VEVENT
END:VCALENDAR