BEGIN:VCALENDAR
VERSION:2.0
PRODID:-//Messe Mühlviertel, seit 1862 - ECPv6.15.20//NONSGML v1.0//EN
CALSCALE:GREGORIAN
METHOD:PUBLISH
X-WR-CALNAME:Messe Mühlviertel, seit 1862
X-ORIGINAL-URL:https://messe-muehlviertel.at
X-WR-CALDESC:Veranstaltungen für Messe Mühlviertel, seit 1862
REFRESH-INTERVAL;VALUE=DURATION:PT1H
X-Robots-Tag:noindex
X-PUBLISHED-TTL:PT1H
BEGIN:VTIMEZONE
TZID:Europe/Vienna
BEGIN:DAYLIGHT
TZOFFSETFROM:+0100
TZOFFSETTO:+0200
TZNAME:CEST
DTSTART:20250330T010000
END:DAYLIGHT
BEGIN:STANDARD
TZOFFSETFROM:+0200
TZOFFSETTO:+0100
TZNAME:CET
DTSTART:20251026T010000
END:STANDARD
BEGIN:DAYLIGHT
TZOFFSETFROM:+0100
TZOFFSETTO:+0200
TZNAME:CEST
DTSTART:20260329T010000
END:DAYLIGHT
BEGIN:STANDARD
TZOFFSETFROM:+0200
TZOFFSETTO:+0100
TZNAME:CET
DTSTART:20261025T010000
END:STANDARD
BEGIN:DAYLIGHT
TZOFFSETFROM:+0100
TZOFFSETTO:+0200
TZNAME:CEST
DTSTART:20270328T010000
END:DAYLIGHT
BEGIN:STANDARD
TZOFFSETFROM:+0200
TZOFFSETTO:+0100
TZNAME:CET
DTSTART:20271031T010000
END:STANDARD
END:VTIMEZONE
BEGIN:VEVENT
DTSTART;TZID=Europe/Vienna:20260328T200000
DTEND;TZID=Europe/Vienna:20260328T230000
DTSTAMP:20260426T024911
CREATED:20231212T061237Z
LAST-MODIFIED:20260313T103739Z
UID:3428-1774728000-1774738800@messe-muehlviertel.at
SUMMARY:Frühjahrskonzert - Stadtkapelle Freistadt
DESCRIPTION:Am 28. März 2026 lädt die Stadtkapelle Freistadt zu einem besonderen Konzertabend ein. Dich erwartet ein abwechslungsreiches Programm mit neuen Klängen und beliebten Klassikern. Auch das Jugendorchester SKF-Soundhaufen sorgt wie gewohnt für beste Stimmung. Freu dich auf einen musikalischen Höhepunkt in der Messehalle 2 in Freistadt! \nDer Eintritt ist frei\, Einlass ab 19:30 Uhr. \n \n 
URL:https://messe-muehlviertel.at/veranstaltung/fruehjahrskonzert/
LOCATION:Messehalle 2 Freistadt\, Am Stieranger 10\, Freistadt\, 4240\, Austria
CATEGORIES:Konzerte,Messetermine
ATTACH;FMTTYPE=image/jpeg:https://messe-muehlviertel.at/wp-content/uploads/2023/12/Logo_StadtkapelleFR.jpg
ORGANIZER;CN="MV Stadtkapelle Freistadt":MAILTO:info@stadtkapelle-freistadt.at
END:VEVENT
END:VCALENDAR