BEGIN:VCALENDAR
VERSION:2.0
PRODID:-//Messe Mühlviertel, seit 1862 - ECPv6.15.20//NONSGML v1.0//EN
CALSCALE:GREGORIAN
METHOD:PUBLISH
X-WR-CALNAME:Messe Mühlviertel, seit 1862
X-ORIGINAL-URL:https://messe-muehlviertel.at
X-WR-CALDESC:Veranstaltungen für Messe Mühlviertel, seit 1862
REFRESH-INTERVAL;VALUE=DURATION:PT1H
X-Robots-Tag:noindex
X-PUBLISHED-TTL:PT1H
BEGIN:VTIMEZONE
TZID:Europe/Vienna
BEGIN:DAYLIGHT
TZOFFSETFROM:+0100
TZOFFSETTO:+0200
TZNAME:CEST
DTSTART:20240331T010000
END:DAYLIGHT
BEGIN:STANDARD
TZOFFSETFROM:+0200
TZOFFSETTO:+0100
TZNAME:CET
DTSTART:20241027T010000
END:STANDARD
BEGIN:DAYLIGHT
TZOFFSETFROM:+0100
TZOFFSETTO:+0200
TZNAME:CEST
DTSTART:20250330T010000
END:DAYLIGHT
BEGIN:STANDARD
TZOFFSETFROM:+0200
TZOFFSETTO:+0100
TZNAME:CET
DTSTART:20251026T010000
END:STANDARD
BEGIN:DAYLIGHT
TZOFFSETFROM:+0100
TZOFFSETTO:+0200
TZNAME:CEST
DTSTART:20260329T010000
END:DAYLIGHT
BEGIN:STANDARD
TZOFFSETFROM:+0200
TZOFFSETTO:+0100
TZNAME:CET
DTSTART:20261025T010000
END:STANDARD
END:VTIMEZONE
BEGIN:VEVENT
DTSTART;TZID=Europe/Vienna:20251002T193000
DTEND;TZID=Europe/Vienna:20251002T193000
DTSTAMP:20260425T141147
CREATED:20250730T101924Z
LAST-MODIFIED:20250730T101924Z
UID:6502-1759433400-1759433400@messe-muehlviertel.at
SUMMARY:Klaus Eckel
DESCRIPTION:KLAUS ECKEL\nWer langsam spricht\, dem glaubt man nicht \nKlaus Eckel ist die deutsche Autobahn unter den Kabarettisten. Leider kennt er kein Tempolimit. \nDoch 2023 rastete die hyperaktive Wortschleuder auf dem Parkplatz des Lebens und gönnte sich eine Auszeit von 9 Monaten! Eine Schwangerschaft lang nix tun! Ganz ohne Pandemie! Und das soll ein Leistungsträger sein? Na\, wenn das jeder machen würde! Unzählige Pointen haben sich aufgestaut. Und Pointen verhalten sich wie Hunde mit voller Blase. Sie müssen einfach raus. \nUnd deswegen geht sie wieder auf Tournee. Die nagelneue\, backfrische Version von seinem stadionreifen Durchbruchs-Programm: Wer langsam spricht\, dem glaubt man nicht. \n\nTicket Infos:\nhttps://kupfticket.com/shops/lb \nUND\n\nlocal-buehne.at/tickets\nlokaler Vorverkauf im Kino Freistadt
URL:https://messe-muehlviertel.at/veranstaltung/klaus-eckel-2/
LOCATION:Messehalle Freistadt\, Am Stieranger 10\, Freistadt\, 4240\, Austria
ATTACH;FMTTYPE=image/jpeg:https://messe-muehlviertel.at/wp-content/uploads/2025/07/241024-Eckel-1500.jpg
ORGANIZER;CN="Local B%C3%BChne Freistadt":MAILTO:office@local-buehne.at
END:VEVENT
END:VCALENDAR