BEGIN:VCALENDAR
VERSION:2.0
PRODID:-//Messe Mühlviertel, seit 1862 - ECPv6.15.18//NONSGML v1.0//EN
CALSCALE:GREGORIAN
METHOD:PUBLISH
X-WR-CALNAME:Messe Mühlviertel, seit 1862
X-ORIGINAL-URL:https://messe-muehlviertel.at
X-WR-CALDESC:Veranstaltungen für Messe Mühlviertel, seit 1862
REFRESH-INTERVAL;VALUE=DURATION:PT1H
X-Robots-Tag:noindex
X-PUBLISHED-TTL:PT1H
BEGIN:VTIMEZONE
TZID:Europe/Vienna
BEGIN:DAYLIGHT
TZOFFSETFROM:+0100
TZOFFSETTO:+0200
TZNAME:CEST
DTSTART:20200329T010000
END:DAYLIGHT
BEGIN:STANDARD
TZOFFSETFROM:+0200
TZOFFSETTO:+0100
TZNAME:CET
DTSTART:20201025T010000
END:STANDARD
BEGIN:DAYLIGHT
TZOFFSETFROM:+0100
TZOFFSETTO:+0200
TZNAME:CEST
DTSTART:20210328T010000
END:DAYLIGHT
BEGIN:STANDARD
TZOFFSETFROM:+0200
TZOFFSETTO:+0100
TZNAME:CET
DTSTART:20211031T010000
END:STANDARD
BEGIN:DAYLIGHT
TZOFFSETFROM:+0100
TZOFFSETTO:+0200
TZNAME:CEST
DTSTART:20220327T010000
END:DAYLIGHT
BEGIN:STANDARD
TZOFFSETFROM:+0200
TZOFFSETTO:+0100
TZNAME:CET
DTSTART:20221030T010000
END:STANDARD
END:VTIMEZONE
BEGIN:VEVENT
DTSTART;TZID=Europe/Vienna:20211020T100000
DTEND;TZID=Europe/Vienna:20211020T100000
DTSTAMP:20260422T025309
CREATED:20201016T052454Z
LAST-MODIFIED:20201016T052454Z
UID:2247-1634724000-1634724000@messe-muehlviertel.at
SUMMARY:Goldene Herbstgala
DESCRIPTION:Vom Neusiedlersee bis zum Bodensee – Große Österreichtournee 2021\nUnsere drei jungen Tenöre\, großes Festspielorchester begeistern mit den allseits beliebten Melodien aus der Welt des Musiktheaters und Evergreens der internationalen Schlagerwelt. Charme\, Witz und Humor! \n\n\n\n\n\n\nTermin:\nMittwoch\, 20. Oktober 2021 – Beginn: 10:00 Uhr \nInfos und Anmeldungen:  Tel. 0800 608 618 oder per Mail: schreiner@gerberhaus.at \nACHTUNG! 1-G-Regelung \nKurzfilm >> \nPressemitteilung Goldene Herbstgala 2021
URL:https://messe-muehlviertel.at/veranstaltung/faschingsgala-13-02-2021/
LOCATION:Mühlviertler Volksfest 2010 Aussteller
CATEGORIES:Konzerte,Messetermine
ATTACH;FMTTYPE=image/jpeg:https://messe-muehlviertel.at/wp-content/uploads/2020/10/Plakat_Fruehlingsgala.jpg
ORGANIZER;CN="Gerberhaus Culturproduktionen DI Josef Schreiner GmbH":MAILTO:schreiner@gerberhaus.at
END:VEVENT
END:VCALENDAR