BEGIN:VCALENDAR
VERSION:2.0
PRODID:-//Messe Mühlviertel, seit 1862 - ECPv6.15.20//NONSGML v1.0//EN
CALSCALE:GREGORIAN
METHOD:PUBLISH
X-ORIGINAL-URL:https://messe-muehlviertel.at
X-WR-CALDESC:Veranstaltungen für Messe Mühlviertel, seit 1862
REFRESH-INTERVAL;VALUE=DURATION:PT1H
X-Robots-Tag:noindex
X-PUBLISHED-TTL:PT1H
BEGIN:VTIMEZONE
TZID:Europe/Vienna
BEGIN:DAYLIGHT
TZOFFSETFROM:+0100
TZOFFSETTO:+0200
TZNAME:CEST
DTSTART:20250330T010000
END:DAYLIGHT
BEGIN:STANDARD
TZOFFSETFROM:+0200
TZOFFSETTO:+0100
TZNAME:CET
DTSTART:20251026T010000
END:STANDARD
BEGIN:DAYLIGHT
TZOFFSETFROM:+0100
TZOFFSETTO:+0200
TZNAME:CEST
DTSTART:20260329T010000
END:DAYLIGHT
BEGIN:STANDARD
TZOFFSETFROM:+0200
TZOFFSETTO:+0100
TZNAME:CET
DTSTART:20261025T010000
END:STANDARD
BEGIN:DAYLIGHT
TZOFFSETFROM:+0100
TZOFFSETTO:+0200
TZNAME:CEST
DTSTART:20270328T010000
END:DAYLIGHT
BEGIN:STANDARD
TZOFFSETFROM:+0200
TZOFFSETTO:+0100
TZNAME:CET
DTSTART:20271031T010000
END:STANDARD
END:VTIMEZONE
BEGIN:VEVENT
DTSTART;TZID=Europe/Vienna:20260211T200000
DTEND;TZID=Europe/Vienna:20260211T200000
DTSTAMP:20260424T151230
CREATED:20250813T105814Z
LAST-MODIFIED:20251112T081622Z
UID:6624-1770840000-1770840000@messe-muehlviertel.at
SUMMARY:Simon & Garfunkel Tribute Duo Graceland
DESCRIPTION:Lieder wie „Sound Of Silence”\, “Bridge Over Troubled Water” oder “Mrs. Robinson” machten Simon & Garfunkel weltberühmt.  Das Duo “Graceland”\,  Tom Wacker und Thorsten Gary\, lässt die Musik der großen Meister wieder lebendig werden. Mit dem nötigen Respekt vor den großen Kompositionen und dem Anspruch an sich selbst\, musikalisch hochwertige Interpretationen der Welthits von Simon & Garfunkel zu bieten\, spielen die beiden Musiker ausverkaufte Konzerte in ganz Europa. Schnell erkannten die beiden\, dass die Musik von Simon & Garfunkel wie geschaffen dafür ist\, die unzähligen Klassiker des wohl bekanntesten Folkrock-Duos der Welt mit dem unverkennbaren Klang eines klassischen Streichensembles zu vereinen. Das Zusammenspiel der beiden Stimmen und zweier Gitarren mit den klassischen Instrumenten lässt die Songs von Simon & Garfunkel zu einem ausdruckstarken und außergewöhnlichen Musikerlebnis werden. \nDie Konzertbesucher erwartet ein Abend voller Emotion und eine musikalische Vielfalt wie selten. Mit Band und String-Quartett durchstreifen sie die gefühlvollen Lieder und „rocken“ an anderer Stelle ihr Publikum. \nEin einzigartiges und außergewöhnliches Konzerterlebnis! \nTicketverkauf online unter: \nhttps://ticket2086.tickethome.at/buchen/43/11.02.2026/2000 \nsowie unter Tel. 0676 50 40 447
URL:https://messe-muehlviertel.at/veranstaltung/simon-garfunkel-tribute-duo-graceland/
LOCATION:Messehalle 2 Freistadt\, Am Stieranger 10\, Freistadt\, 4240\, Austria
ATTACH;FMTTYPE=image/jpeg:https://messe-muehlviertel.at/wp-content/uploads/2025/08/SG-meets-Classic-x.jpg
ORGANIZER;CN="WONDEWORLD ENTERTAINMENT event and show agency GmbH":MAILTO:office@wonderworld-entertainment.com
END:VEVENT
END:VCALENDAR