BEGIN:VCALENDAR
VERSION:2.0
PRODID:-//Messe Mühlviertel, seit 1862 - ECPv6.15.20//NONSGML v1.0//EN
CALSCALE:GREGORIAN
METHOD:PUBLISH
X-ORIGINAL-URL:https://messe-muehlviertel.at
X-WR-CALDESC:Veranstaltungen für Messe Mühlviertel, seit 1862
REFRESH-INTERVAL;VALUE=DURATION:PT1H
X-Robots-Tag:noindex
X-PUBLISHED-TTL:PT1H
BEGIN:VTIMEZONE
TZID:Europe/Vienna
BEGIN:DAYLIGHT
TZOFFSETFROM:+0100
TZOFFSETTO:+0200
TZNAME:CEST
DTSTART:20250330T010000
END:DAYLIGHT
BEGIN:STANDARD
TZOFFSETFROM:+0200
TZOFFSETTO:+0100
TZNAME:CET
DTSTART:20251026T010000
END:STANDARD
BEGIN:DAYLIGHT
TZOFFSETFROM:+0100
TZOFFSETTO:+0200
TZNAME:CEST
DTSTART:20260329T010000
END:DAYLIGHT
BEGIN:STANDARD
TZOFFSETFROM:+0200
TZOFFSETTO:+0100
TZNAME:CET
DTSTART:20261025T010000
END:STANDARD
BEGIN:DAYLIGHT
TZOFFSETFROM:+0100
TZOFFSETTO:+0200
TZNAME:CEST
DTSTART:20270328T010000
END:DAYLIGHT
BEGIN:STANDARD
TZOFFSETFROM:+0200
TZOFFSETTO:+0100
TZNAME:CET
DTSTART:20271031T010000
END:STANDARD
END:VTIMEZONE
BEGIN:VEVENT
DTSTART;VALUE=DATE:20260102
DTEND;VALUE=DATE:20260105
DTSTAMP:20260424T184542
CREATED:20251105T081527Z
LAST-MODIFIED:20251105T081718Z
UID:7161-1767312000-1767571199@messe-muehlviertel.at
SUMMARY:39. JÄNNERRALLYE
DESCRIPTION:Der Startschuss ins neue Motorsportjahr fällt auch 2026 in Freistadt im oberösterreichischen Mühlviertel. Die LKW FRIENDS on the road JÄNNERRALLYE powered by WIMBERGER eröffnet traditionell die heimische Rallyesaison und geht von Freitag\, 02.\, bis Sonntag\, 04. Jänner 2026\, in ihre 39. Auflage. \nMit ihrer einzigartigen Winter-Kulisse und ihrem unkalkulierbaren Verlauf zählt sie seit Jahrzehnten zu den großen Abenteuern im Rallyesport und genießt deshalb einen besonderen Stellenwert im internationalen Vergleich. \nDas Programm 2026 im Überblick: \n> Freitag\, 02. Jänner 2026:\nAm Nachmittag startet die Rallye mit dem Shakedown\, am Abend folgt die bei Zusehern und Teilnehmern beliebte Fahrerpräsentation in der Messehalle Freistadt – traditionell der erste Höhepunkt. \n> Samstag\, 03. Jänner 2026:\nEin langer Rallyetag mit fünf verschiedenen Sonderprüfungen\, jeweils zweimal befahren – eine davon komplett neu im Streckenplan \n> Sonntag\, 04. Jänner 2026:\nVier weitere Sonderprüfungen\, ebenfalls je zweimal befahren – darunter der bei Zuschauern sehr beliebte Rundkurs Freistadt und eine Powerstage bei Dunkelheit\, bevor am Abend die Siegerehrung in der Messehalle Freistadt den Schlusspunkt setzt. \nWinterliche Streckenbedingungen\, selektive Prüfungen\, die besten Rallyepiloten Österreichs und tausende leidenschaftliche Fans: Die LKW FRIENDS on the road JÄNNERRALLYE powered by WIMBERGER vereint all das\, was den Rallyesport im Mühlviertel so besonders macht. Von 2. bis 4. Jänner 2026 erwartet die Rallyefans damit neuerlich ein echtes Highlight im österreichischen und internationalen Motorsportkalender.
URL:https://messe-muehlviertel.at/veranstaltung/39-jaennerrallye/
LOCATION:Messehalle Freistadt\, Am Stieranger 10\, Freistadt\, 4240\, Austria
ATTACH;FMTTYPE=image/jpeg:https://messe-muehlviertel.at/wp-content/uploads/2025/11/Unbenannt.jpg
END:VEVENT
END:VCALENDAR