BEGIN:VCALENDAR
VERSION:2.0
PRODID:-//Messe Mühlviertel, seit 1862 - ECPv6.15.20//NONSGML v1.0//EN
CALSCALE:GREGORIAN
METHOD:PUBLISH
X-ORIGINAL-URL:https://messe-muehlviertel.at
X-WR-CALDESC:Veranstaltungen für Messe Mühlviertel, seit 1862
REFRESH-INTERVAL;VALUE=DURATION:PT1H
X-Robots-Tag:noindex
X-PUBLISHED-TTL:PT1H
BEGIN:VTIMEZONE
TZID:Europe/Vienna
BEGIN:DAYLIGHT
TZOFFSETFROM:+0100
TZOFFSETTO:+0200
TZNAME:CEST
DTSTART:20240331T010000
END:DAYLIGHT
BEGIN:STANDARD
TZOFFSETFROM:+0200
TZOFFSETTO:+0100
TZNAME:CET
DTSTART:20241027T010000
END:STANDARD
BEGIN:DAYLIGHT
TZOFFSETFROM:+0100
TZOFFSETTO:+0200
TZNAME:CEST
DTSTART:20250330T010000
END:DAYLIGHT
BEGIN:STANDARD
TZOFFSETFROM:+0200
TZOFFSETTO:+0100
TZNAME:CET
DTSTART:20251026T010000
END:STANDARD
BEGIN:DAYLIGHT
TZOFFSETFROM:+0100
TZOFFSETTO:+0200
TZNAME:CEST
DTSTART:20260329T010000
END:DAYLIGHT
BEGIN:STANDARD
TZOFFSETFROM:+0200
TZOFFSETTO:+0100
TZNAME:CET
DTSTART:20261025T010000
END:STANDARD
END:VTIMEZONE
BEGIN:VEVENT
DTSTART;TZID=Europe/Vienna:20251114T130000
DTEND;TZID=Europe/Vienna:20251114T180000
DTSTAMP:20260425T032259
CREATED:20250807T102037Z
LAST-MODIFIED:20250807T102037Z
UID:6559-1763125200-1763143200@messe-muehlviertel.at
SUMMARY:Berufserlebnistag Freistadt
DESCRIPTION:14. November 2025 in den Freistädter Messehallen von 13:00 – 18:00 Uhr\nSpannende Ausbildungen bei regionalen Betrieben und Schulen\nOberösterreichs größte regionale Berufsinfo-Messe in den Freistädter Messehallen \nDie Chance\, einen spannenden Lehrplatz zu ergattern\, ist derzeit größer als je zuvor. Gerade im Bezirk Freistadt bieten über 250 Lehrbetriebe eine oftmals unterschätzte Vielfalt an Lehrberufen in unterschiedlichen Branchen. \n„Unsere regionalen Firmen bieten interessante und attraktive Jobs an\, dass für jeden Geschmack und jedes Talent der richtige Lehrberuf dabei ist\,“ ist Christian Naderer\, Obmann der WKO Freistadt\, überzeugt. \nAm 14. November 2025 öffnen sich endlich wieder in den Freistädter Messehallen die Türen zur größten und wichtigsten Veranstaltung rund um Ausbildung und Berufsinformation im Bezirk Freistadt\, mit über 60 Ausstellern und etwa 2500 Besucher:innen. Jugendliche und deren Eltern können sich vor Ort einen Überblick über die Berufs- und Ausbildungsmöglichkeiten in der Region verschaffen. Zahlreiche Lehrbetriebe laden bei ihren Messeständen zum Ausprobieren ein und Schulen sowie Beratungsstellen informieren über Ihr vielfältiges Angebot. \nEin attraktives Programm an Vorträgen und Aktivitäten ergänzt das umfangreiche Angebot in den Messehallen. So können beim Talentecheck Jugendliche vor Ort ihre Interessen und Neigungen testen und 3D-Brillen lassen die Besucher in unterschiedliche Berufswelten eintauchen und zeigen zB wie es sich anfühlt\, als Hochbauer in luftiger Höhe eine Betondecke zu gießen. Bei Karrieretalks geben erfolgreiche Jungarbeiternehmer Tipps für den Berufseinstieg. \nNähere Informationen erhalten Sie dazu in der WKO Freistadt: T 05-90909-5204 bzw. E freistadt@wkooe.at. \n 
URL:https://messe-muehlviertel.at/veranstaltung/berufserlebnistag-freistadt/
LOCATION:Messehalle Freistadt\, Am Stieranger 10\, Freistadt\, 4240\, Austria
ATTACH;FMTTYPE=image/jpeg:https://messe-muehlviertel.at/wp-content/uploads/2025/08/2025-banner-989x366-kopie.jpg
ORGANIZER;CN="WKO Freistadt":MAILTO:freistadt@wkooe.at
END:VEVENT
END:VCALENDAR