BEGIN:VCALENDAR
VERSION:2.0
PRODID:-//Messe Mühlviertel, seit 1862 - ECPv6.15.20//NONSGML v1.0//EN
CALSCALE:GREGORIAN
METHOD:PUBLISH
X-WR-CALNAME:Messe Mühlviertel, seit 1862
X-ORIGINAL-URL:https://messe-muehlviertel.at
X-WR-CALDESC:Veranstaltungen für Messe Mühlviertel, seit 1862
REFRESH-INTERVAL;VALUE=DURATION:PT1H
X-Robots-Tag:noindex
X-PUBLISHED-TTL:PT1H
BEGIN:VTIMEZONE
TZID:Europe/Vienna
BEGIN:DAYLIGHT
TZOFFSETFROM:+0100
TZOFFSETTO:+0200
TZNAME:CEST
DTSTART:20250330T010000
END:DAYLIGHT
BEGIN:STANDARD
TZOFFSETFROM:+0200
TZOFFSETTO:+0100
TZNAME:CET
DTSTART:20251026T010000
END:STANDARD
BEGIN:DAYLIGHT
TZOFFSETFROM:+0100
TZOFFSETTO:+0200
TZNAME:CEST
DTSTART:20260329T010000
END:DAYLIGHT
BEGIN:STANDARD
TZOFFSETFROM:+0200
TZOFFSETTO:+0100
TZNAME:CET
DTSTART:20261025T010000
END:STANDARD
BEGIN:DAYLIGHT
TZOFFSETFROM:+0100
TZOFFSETTO:+0200
TZNAME:CEST
DTSTART:20270328T010000
END:DAYLIGHT
BEGIN:STANDARD
TZOFFSETFROM:+0200
TZOFFSETTO:+0100
TZNAME:CET
DTSTART:20271031T010000
END:STANDARD
END:VTIMEZONE
BEGIN:VEVENT
DTSTART;TZID=Europe/Vienna:20260123T090000
DTEND;TZID=Europe/Vienna:20260125T170000
DTSTAMP:20260424T235824
CREATED:20251105T083942Z
LAST-MODIFIED:20251105T083942Z
UID:7170-1769158800-1769360400@messe-muehlviertel.at
SUMMARY:Mühlviertler Baumesse
DESCRIPTION:Die Mühlviertler Baumesse\n23. – 25. Jänner 2026 | 9 – 17 UHR | FREISTADT\, OÖ\nDie Mühlviertler Baumesse ist traditionell die 1. Messe des Jahres in Oberösterreich und gibt damit den Startschuss für die aktuelle Bausaison. Bei der Messe 2026 werden mehr als 130 Aussteller nach Freistadt kommen und ihre vielfältige Palette an Qualitätsprodukten und innovativen Lösungen auf ~ 6.000 m² präsentieren. \nDie Besucher erhalten auf der Messe einen guten Überblick über die neuesten Techniken\, Produkte und Systeme für den Neu\, Um- oder Ausbau sowie für das Wohnen mit allen Sinnen. Ein umfangreiches Vortragsprogramm rundet das Programm optimal ab und liefert zusätzlich viele Tipps und Tricks für eine gelungene Planung und Durchführung beim Bauen\, Sanieren und Renovieren mit Professionisten.
URL:https://messe-muehlviertel.at/veranstaltung/muehlviertler-baumesse-3/
LOCATION:Messehalle Freistadt\, Am Stieranger 10\, Freistadt\, 4240\, Austria
CATEGORIES:Messetermine
ATTACH;FMTTYPE=image/jpeg:https://messe-muehlviertel.at/wp-content/uploads/2025/11/images.jpeg
END:VEVENT
END:VCALENDAR