BEGIN:VCALENDAR
VERSION:2.0
PRODID:-//Messe Mühlviertel, seit 1862 - ECPv6.15.18//NONSGML v1.0//EN
CALSCALE:GREGORIAN
METHOD:PUBLISH
X-WR-CALNAME:Messe Mühlviertel, seit 1862
X-ORIGINAL-URL:https://messe-muehlviertel.at
X-WR-CALDESC:Veranstaltungen für Messe Mühlviertel, seit 1862
REFRESH-INTERVAL;VALUE=DURATION:PT1H
X-Robots-Tag:noindex
X-PUBLISHED-TTL:PT1H
BEGIN:VTIMEZONE
TZID:Europe/Vienna
BEGIN:DAYLIGHT
TZOFFSETFROM:+0100
TZOFFSETTO:+0200
TZNAME:CEST
DTSTART:20220327T010000
END:DAYLIGHT
BEGIN:STANDARD
TZOFFSETFROM:+0200
TZOFFSETTO:+0100
TZNAME:CET
DTSTART:20221030T010000
END:STANDARD
BEGIN:DAYLIGHT
TZOFFSETFROM:+0100
TZOFFSETTO:+0200
TZNAME:CEST
DTSTART:20230326T010000
END:DAYLIGHT
BEGIN:STANDARD
TZOFFSETFROM:+0200
TZOFFSETTO:+0100
TZNAME:CET
DTSTART:20231029T010000
END:STANDARD
BEGIN:DAYLIGHT
TZOFFSETFROM:+0100
TZOFFSETTO:+0200
TZNAME:CEST
DTSTART:20240331T010000
END:DAYLIGHT
BEGIN:STANDARD
TZOFFSETFROM:+0200
TZOFFSETTO:+0100
TZNAME:CET
DTSTART:20241027T010000
END:STANDARD
END:VTIMEZONE
BEGIN:VEVENT
DTSTART;TZID=Europe/Vienna:20230421T200000
DTEND;TZID=Europe/Vienna:20230421T223000
DTSTAMP:20260421T002129
CREATED:20230105T065645Z
LAST-MODIFIED:20230105T065645Z
UID:2963-1682107200-1682116200@messe-muehlviertel.at
SUMMARY:Josef Hader - HADER ON ICE
DESCRIPTION:HADER ON ICE\n„Immer is irgendwas. Entweder die Fiaß schlafen mir ein. Oder sie jucken. Dann krieg i wieder ka Luft\, wenn i schneller geh. Oder i hab an Schweißausbruch. Dann friert mich wieder. Das Essen schmeckt mir nimmer\, der Sex ist fad\, die Hosen sind z’eng. Was is das bitte? – Des muss alles dieser Klimawandel sein\, oder? Temperaturen hat’s im Sommer wie in den Tropen! Dadurch gibt’s auf einmal diese riesigen Insekten! Die hat’s doch früher net geb’n! Wenn die dich stechen\, kriegst einen Dippel\, der geht monatelang net weg! Wahrscheinlich san die alle gentechnisch verändert. Und die Pflanzen! Die werd’n jetzt auch schon deppert. Die spinnen\, die Pflanzen! Die wachsen jetzt alles zua! Seit i nimmer aus’n Haus geh. Meine Theorie is\, die Pflanzen woll’n die Herrschaft über den Planeten zurück. Die sind alle miteinander unterirdisch verbunden über ihre Wurzeln. Weltweit! Die Pflanzen hab’n einen geheimen Plan. Sie wollen die totale Zerstörung der abendländischen Kultur und des österreichischen Volks-Rock’n’ Roll. Das soll alles ersetzt werden durch äh Photosynthese.“ \nREGIE: Petra Dobetsberger \n\nVoverkauf: oeticket\n \n 
URL:https://messe-muehlviertel.at/veranstaltung/josef-hader-hader-on-ice/
LOCATION:Messehalle Freistadt\, Am Stieranger 10\, Freistadt\, 4240\, Austria
CATEGORIES:Kabarett,Messetermine
ATTACH;FMTTYPE=image/jpeg:https://messe-muehlviertel.at/wp-content/uploads/2023/01/230421-Hader-1500-945x362-1.jpg
END:VEVENT
BEGIN:VEVENT
DTSTART;TZID=Europe/Vienna:20230429T200000
DTEND;TZID=Europe/Vienna:20230429T220000
DTSTAMP:20260421T002129
CREATED:20230105T061317Z
LAST-MODIFIED:20230105T061317Z
UID:2960-1682798400-1682805600@messe-muehlviertel.at
SUMMARY:Fonse Doppelhammer - wird VERSCHOBEN!
DESCRIPTION:Ersatztermin wird in Kürze bekanntgegeben!\nKarten bleiben gültig. \nFonse Doppelhammer präsentiert die Magische Kabarett Show –\nmit Michi  Dietmayr\, Claudia Pichler & Magier Dionysos Baumgartner\nMichi Dietmayr – u.a. bekannt von 3 Männern nur mit Gitarre und dahoam is dahoam.\nClaudia Pichler – Fachfrau für bayerische Sprache bei Grünwalds Freitags Comedy- Kabarettistin\, Autorin und promovierte Poltologin mit ihrer Arbeit über Gerhard Polt.\nDionysos Baumgartner – Magier und Experte der closed up Magie.\nEine noch nie dagewesene Show mit vier völlig unterschiedlichen Charaktere. Lassen Sie sich von Dionysos verzaubern\, lauschen Sie den klängen von Michis Gitarre\, lernen Sie neue Bedeutungen der bayerischen Sprache durch Claudia Pichler und erleben Sie den Witzmeister Fonse Doppelhammer\, der nicht nur als Grabner Karl sein Unwesen treibt.\nDiese vier gemeinsam auf einer Bühne? Richtig\, es wird ein einmaliger und unvergesslicher Abend mit viel Humor und angestrengten Lachmuskeln.\nSicher Sie sich schnell Tickets für diese exklusive Liveshow! \nEinlass: 19 Uhr\nBeginn: 20 Uhr
URL:https://messe-muehlviertel.at/veranstaltung/fonse-doppelhammer-sauwitzig/
LOCATION:Mühlviertler Volksfest 2010 Aussteller
CATEGORIES:Kabarett,Messetermine
ATTACH;FMTTYPE=image/png:https://messe-muehlviertel.at/wp-content/uploads/2023/01/1080x1080px-Magische-Kabarettshow-FR290423-1024x1024-1.png
ORGANIZER;CN="Kultursaal Events":MAILTO:info@kultursaal.at
END:VEVENT
END:VCALENDAR