BEGIN:VCALENDAR
VERSION:2.0
PRODID:-//Messe Mühlviertel, seit 1862 - ECPv6.15.18//NONSGML v1.0//EN
CALSCALE:GREGORIAN
METHOD:PUBLISH
X-WR-CALNAME:Messe Mühlviertel, seit 1862
X-ORIGINAL-URL:https://messe-muehlviertel.at
X-WR-CALDESC:Veranstaltungen für Messe Mühlviertel, seit 1862
REFRESH-INTERVAL;VALUE=DURATION:PT1H
X-Robots-Tag:noindex
X-PUBLISHED-TTL:PT1H
BEGIN:VTIMEZONE
TZID:Europe/Vienna
BEGIN:DAYLIGHT
TZOFFSETFROM:+0100
TZOFFSETTO:+0200
TZNAME:CEST
DTSTART:20210328T010000
END:DAYLIGHT
BEGIN:STANDARD
TZOFFSETFROM:+0200
TZOFFSETTO:+0100
TZNAME:CET
DTSTART:20211031T010000
END:STANDARD
BEGIN:DAYLIGHT
TZOFFSETFROM:+0100
TZOFFSETTO:+0200
TZNAME:CEST
DTSTART:20220327T010000
END:DAYLIGHT
BEGIN:STANDARD
TZOFFSETFROM:+0200
TZOFFSETTO:+0100
TZNAME:CET
DTSTART:20221030T010000
END:STANDARD
BEGIN:DAYLIGHT
TZOFFSETFROM:+0100
TZOFFSETTO:+0200
TZNAME:CEST
DTSTART:20230326T010000
END:DAYLIGHT
BEGIN:STANDARD
TZOFFSETFROM:+0200
TZOFFSETTO:+0100
TZNAME:CET
DTSTART:20231029T010000
END:STANDARD
END:VTIMEZONE
BEGIN:VEVENT
DTSTART;VALUE=DATE:20221008
DTEND;VALUE=DATE:20221009
DTSTAMP:20260422T034221
CREATED:20200122T111459Z
LAST-MODIFIED:20200122T111459Z
UID:1967-1665187200-1665273599@messe-muehlviertel.at
SUMMARY:Maturaball der HLW und HLK Freistadt
DESCRIPTION:
URL:https://messe-muehlviertel.at/veranstaltung/maturaball-der-hlw-und-hlk-freistadt-2020/
LOCATION:Mühlviertler Volksfest 2010 Jahrmarkt
CATEGORIES:Konzerte,Messetermine
END:VEVENT
BEGIN:VEVENT
DTSTART;VALUE=DATE:20221015
DTEND;VALUE=DATE:20221016
DTSTAMP:20260422T034221
CREATED:20190417T054254Z
LAST-MODIFIED:20190417T054254Z
UID:1663-1665792000-1665878399@messe-muehlviertel.at
SUMMARY:HAK/HTL-Maturaball
DESCRIPTION:
URL:https://messe-muehlviertel.at/veranstaltung/hak-maturaball/
LOCATION:Mühlviertler Volksfest 2010 Jahrmarkt
CATEGORIES:Messetermine
ORGANIZER;CN="Maturanten der BHAK und HTL Freistadt":MAILTO:office@hakhtlfreistadt.at
END:VEVENT
BEGIN:VEVENT
DTSTART;TZID=Europe/Vienna:20221022T200000
DTEND;TZID=Europe/Vienna:20221022T200000
DTSTAMP:20260422T034221
CREATED:20211207T102106Z
LAST-MODIFIED:20211207T102106Z
UID:2671-1666468800-1666468800@messe-muehlviertel.at
SUMMARY:EDMUND
DESCRIPTION:Feinste Leiwand Tour \nEndlich wieder richtiger Austropop – das hört man oft\, wenn über das Duo Edmund aus dem Wienerwald gesprochen wird. Aber was macht den Erfolg von Edmund eigentlich genau aus? Roman Messner und Markus Kadensky schreiben wunderschöne zweistimmige Mundartsongs aus dem Bauch heraus\, vereinen darin das Beste des alten Austropop mit aktuellem Songwriting und treffen damit voll ins Schwarze. Sie singen in „Freindschoft“ über die wichtigste Konstante in ihrem Leben. Der Song „Zam oid wern“ ist eine Hymne darauf\, sein Leben mit einem einzigartigen Partner zu verbringen. Die Songs von Edmund drehen sich ums Scheitern\, ums Wiederaufstehen\, und von Beziehungen\, die nicht immer so einfach sind\, wie man es sich wünschen würde. Edmund nehmen sich kein Blatt vor den Mund und drücken Dinge oft sehr direkt und mit einer präzisen Sprache aus. Das dürfte auch genau das sein\, was ihre Fans so an ihnen lieben\, sie sprechen ihnen aus der Seele. Und mal ganz ehrlich\, wer den Namen von Edmund „Mundl“ Sackbauer als Bandname wählt\, den kann man eigentlich nur mögen. \nEnde Januar 2022 erscheint nun bereits das dritte Album „Fein“ von Edmund. Die Band geht konstant ihren Weg weiter und liefert Austropop mit der nötigen Prise Freshness. \nFür ihr Album „Leiwand“ waren „Edmund“ waren gleich 3-mal für den Amadeus Austrian Music Award nominiert. In den Kategorien „Album des Jahres“ für das Album „Leiwand“\, in der Kategorie „Song des Jahres“ für die Single „Leiwand“ und in der Kategorie Pop-Rock. Gewonnen haben sie die Kategorie „Album des Jahres“! Eine wirklich schöne Anerkennung nach mehreren Jahren intensiver Arbeit der Musiker Markus Kadensky und Roman Messner\, die sich vor allem durch eine stetig wachsende Fanbase ausgezeichnet hat. Ihre ehrlichen Austropop-Songs treffen mitten ins Herz und gehen oft unter die Haut. Die Fans lieben die Songs\, weil sie ohne große Umschweife auf den Punkt kommen und den Menschen aus der Seele sprechen. \nDas Edmund Album „Leiwand“ ist seit 69 Wochen in den österreichischen Albumcharts\, für Single und Album stehen bald Gold-Auszeichnungen an. Das Erstlingswerk „Freindschoft“ ist bereits die 109. Woche in den österreichischen Albumcharts und wurde für Singles „Freindschoft“ und „Leiwand“ mit Platin ausgezeichnet. Die Alben „Leiwand“ und „Freindschoft“ haben beide Goldstatus erreicht. Die Singles „Die Blonde mitn Mittlscheitel“ und „Prinzessin“ mit Gold. Eine Meisterleistung dafür\, dass die Band alles mit Miniteam selbst stemmt. 25 Millionen Streams auf ihre Songs auf Spotify und rund 35 Millionen Aufrufe der Songs auf Youtube ist wirklich beeindruckend für eine Mundart-Band\, die vor allem in Österreich und Bayern ihre Fans hat. \nNach ihrer ausverkauften „Freindschoft Tour“ wurde die “Leiwand”-Tour aufgrund von Corona abgesagt\, nur die Show in der Wiener Stadthalle wurde auf den 16. April 2022 geschoben. Nun graden sie mit dem Album „Fein“ ihre Tour auf die „Feinste Leiwand Tour“ auf und bespielen damit Österreich und Deutschland. \n  \n  \n\n\n\n\n\nVorverkauf www.lb.kupfticket.at \nAbendkasse besetzt ab 18:00 / Einlass ab 18:30\nAbendkasse: 50 / 48 \nAbendkasse Preis 1: Vollpreis Abendkassa; Preis 2: ermäßigt Abendkassa (u. a. für Ö1-\, Arbeiterkammer-\, Kupf-Mitglieder\, Schüler*innen\, Student*innen\, Präsenz- & Zivildiener; mit gültigem Ausweis); Local-Bühne-Mitglieder: 1 Euro retour auf VVK an Abendkasse
URL:https://messe-muehlviertel.at/veranstaltung/edmund/
LOCATION:Messehalle Freistadt\, Am Stieranger 10\, Freistadt\, 4240\, Austria
CATEGORIES:Konzerte,Messetermine
ATTACH;FMTTYPE=image/jpeg:https://messe-muehlviertel.at/wp-content/uploads/2021/12/221022-Edmund-1500-1.jpg
END:VEVENT
BEGIN:VEVENT
DTSTART;TZID=Europe/Vienna:20221025T200000
DTEND;TZID=Europe/Vienna:20221025T200000
DTSTAMP:20260422T034221
CREATED:20220407T045549Z
LAST-MODIFIED:20220407T045549Z
UID:2781-1666728000-1666728000@messe-muehlviertel.at
SUMMARY:Francine Jordi & Friends
DESCRIPTION:Mit Fantasy\, Mela Rose & Sandro\nFrancine Jordi ist ein echter Superstar und ein musikalisches Allround-Talent. Sie brilliert mit Schweizer Mundart-Songs ebenso wie als Papagena in Mozarts Zauberflöte. Ihre große Liebe gehört aber dem Schlager – und Live-Konzerten mit ihren Freunden. In Freistadt führt die sympathische Schweizerin durch ein abwechslungsreiches Bühnenprogramm\, bei dem sie nicht nur selber singt\, sondern auch den lokalen Partygrößen reichlich Platz bietet. Die Mühlviertler Chartstürmer „Zwirn“ werden dem Publikum kräftig einheizen\, ehe mit Sandro und Mela Rose zwei Fixgrößen der Schlagerszene zu hören sind. Highlights des Abends ist der Auftritt des bereits fünfmal für den ECHO nominierten Duos Fantasy\, das mit über 2 Millionen verkauften Tonträgern zu den erfolgreichsten Schlager-Duos Deutschlands zählt. \nTICKETS UNTER https://www.my-ticket.shop/ \nVeranstalter:\nGEO ENTERTAINMENT\nHimmelreich 1\nA-5020 Salzburg\nTel. +43 664 263  42 16\nentertainment@geo.at \nWEITER INFO unter:\nhttps://geo-entertainment.com\nhttps://francinejordi.ch\nhttps://www.fantasymusik.de\nhttp://www.mela-rose.com\nhttps://www.sandromusik.de\nhttps://www.zwirn.band
URL:https://messe-muehlviertel.at/veranstaltung/francine-jordi-friends/
LOCATION:Messehalle Freistadt\, Am Stieranger 10\, Freistadt\, 4240\, Austria
CATEGORIES:Konzerte,Messetermine
ATTACH;FMTTYPE=image/jpeg:https://messe-muehlviertel.at/wp-content/uploads/2022/04/Francine-Jordi_Startseite_1920x1080_neu_020422.jpg
ORGANIZER;CN="GEO ENTERTAINMENT":MAILTO:entertainment@geo.at
END:VEVENT
BEGIN:VEVENT
DTSTART;TZID=Europe/Vienna:20221029T100000
DTEND;TZID=Europe/Vienna:20221029T121000
DTSTAMP:20260422T034221
CREATED:20211028T091912Z
LAST-MODIFIED:20211028T091912Z
UID:2582-1667037600-1667045400@messe-muehlviertel.at
SUMMARY:Herbst-Gala "Viva Las Vegas"
DESCRIPTION:Gerberhaus Herbstgala – Viva Las Vegas \nEin musikalisches Highlight der Sonderklasse erwartet die Konzertbesucher am Vormittag in der Messe Freistadt. \nMotto der diesjährigen Gerberhaus Österreich Tournee\, vom Neusiedlersee bis zum Bodensee\, lautet „Back to the Fifties“. Nach dem Krieg begannen die großen Aufbruchsjahre von Las Vegas\, wo der Reihe nach mondäne Mega-Hotels aus dem Boden gestampft wurden. Mitte der 50er Jahre stürmten bereits jährlich Millionen von Besucher die Casinos und Hoteltempel. Die großen Stars aus Film und Musik wie Frank Sinatra\, Dean Martin\, Barbara Streisand oder Elvis waren mit ihren glamourösen Shows nicht wegzudenken! \nDas Konzerthighlight entführt mit grandiosen MusikerInnen und SängerInnen akustisch wie optisch zurück in diese faszinierende Aufbruchsepoche. Viva Las Vegas\, herzlich willkommen! \nKonzertdaten: \nDatum: Sa\, 29.10.2022 – Messe Freistadt\, Halle 2\nBeginn: 10 Uhr am Vormittag\nDauer: ca. 2 Stunden 10 Minuten \n\nDas Video zum Event! \nGerberhaus Culturproduktionen\nOrtenhofenstraße 59\, 8225 Pöllau \nGratis-Hotline: 0800 608 618\nE-Mail: schreiner@gerberhaus.at\nwww.gerberhaus.at \n 
URL:https://messe-muehlviertel.at/veranstaltung/herbst-gala-viva-las-vegas/
LOCATION:Mühlviertler Volksfest 2010 Aussteller
CATEGORIES:Konzerte,Messetermine
ATTACH;FMTTYPE=image/jpeg:https://messe-muehlviertel.at/wp-content/uploads/2021/10/Bild.jpg
ORGANIZER;CN="Gerberhaus Culturproduktionen DI Josef Schreiner GmbH":MAILTO:schreiner@gerberhaus.at
END:VEVENT
END:VCALENDAR