BEGIN:VCALENDAR
VERSION:2.0
PRODID:-//Messe Mühlviertel, seit 1862 - ECPv6.15.20//NONSGML v1.0//EN
CALSCALE:GREGORIAN
METHOD:PUBLISH
X-ORIGINAL-URL:https://messe-muehlviertel.at
X-WR-CALDESC:Veranstaltungen für Messe Mühlviertel, seit 1862
REFRESH-INTERVAL;VALUE=DURATION:PT1H
X-Robots-Tag:noindex
X-PUBLISHED-TTL:PT1H
BEGIN:VTIMEZONE
TZID:Europe/Vienna
BEGIN:DAYLIGHT
TZOFFSETFROM:+0100
TZOFFSETTO:+0200
TZNAME:CEST
DTSTART:20210328T010000
END:DAYLIGHT
BEGIN:STANDARD
TZOFFSETFROM:+0200
TZOFFSETTO:+0100
TZNAME:CET
DTSTART:20211031T010000
END:STANDARD
BEGIN:DAYLIGHT
TZOFFSETFROM:+0100
TZOFFSETTO:+0200
TZNAME:CEST
DTSTART:20220327T010000
END:DAYLIGHT
BEGIN:STANDARD
TZOFFSETFROM:+0200
TZOFFSETTO:+0100
TZNAME:CET
DTSTART:20221030T010000
END:STANDARD
BEGIN:DAYLIGHT
TZOFFSETFROM:+0100
TZOFFSETTO:+0200
TZNAME:CEST
DTSTART:20230326T010000
END:DAYLIGHT
BEGIN:STANDARD
TZOFFSETFROM:+0200
TZOFFSETTO:+0100
TZNAME:CET
DTSTART:20231029T010000
END:STANDARD
END:VTIMEZONE
BEGIN:VEVENT
DTSTART;VALUE=DATE:20220610
DTEND;VALUE=DATE:20220612
DTSTAMP:20260425T173957
CREATED:20201105T062721Z
LAST-MODIFIED:20201105T062721Z
UID:2349-1654819200-1654991999@messe-muehlviertel.at
SUMMARY:Musical-Aufführung der MMS Freistadt
DESCRIPTION:In 80 Tagen um die Welt\nMessehalle Freistadt\n*************************** \n10. Juni 2022 – 20:00 Uhr\n11. Juni 2022 – 20:00 Uhr \n 
URL:https://messe-muehlviertel.at/veranstaltung/musical-auffuehrung-nms-freistadt/
LOCATION:Messehalle Freistadt\, Am Stieranger 10\, Freistadt\, 4240\, Austria
CATEGORIES:Konzerte,Messetermine,Musikkabarett
ATTACH;FMTTYPE=image/jpeg:https://messe-muehlviertel.at/wp-content/uploads/2020/11/Plakat-A2-80-Tage-002-scaled-1.jpg
ORGANIZER;CN="MMS Musikmittelschule Freistadt":MAILTO:office@mms-freistadt.at
END:VEVENT
BEGIN:VEVENT
DTSTART;VALUE=DATE:20220615
DTEND;VALUE=DATE:20220620
DTSTAMP:20260425T173957
CREATED:20201105T062924Z
LAST-MODIFIED:20201105T062924Z
UID:2351-1655251200-1655683199@messe-muehlviertel.at
SUMMARY:Musical-Aufführung der MMS Freistadt
DESCRIPTION:In 80 Tagen um die Welt\nMessehalle Freistadt\n*************************** \n15. Juni 2022 – 20:00 Uhr\n16. Juni 2022 – 17:00 Uhr\n17. Juni 2022 – 20:00 Uhr\n19. Juni 2022 – 17:00 Uhr
URL:https://messe-muehlviertel.at/veranstaltung/musical-auffuehrung-nms-freistadt-2/
LOCATION:Messehalle Freistadt\, Am Stieranger 10\, Freistadt\, 4240\, Austria
CATEGORIES:Konzerte,Messetermine,Musikkabarett
ATTACH;FMTTYPE=image/jpeg:https://messe-muehlviertel.at/wp-content/uploads/2020/11/Plakat-A2-80-Tage-002-scaled-1.jpg
ORGANIZER;CN="MMS Musikmittelschule Freistadt":MAILTO:office@mms-freistadt.at
END:VEVENT
BEGIN:VEVENT
DTSTART;VALUE=DATE:20220625
DTEND;VALUE=DATE:20220627
DTSTAMP:20260425T173957
CREATED:20200113T082445Z
LAST-MODIFIED:20200113T082445Z
UID:1948-1656115200-1656287999@messe-muehlviertel.at
SUMMARY:48. IVV-Wandertag 2022
DESCRIPTION:Es stehen 3 Wanderstrecken (ca. 6\, 11 und 20 Km) rund um Freistadt zum Begehen auch mit Kinderwagen zur Verfügung. Start und Ziel Messehalle 2. \nDOWNLOAD >> Ausschreibung-IVV-Wandertag 2022
URL:https://messe-muehlviertel.at/veranstaltung/48-ivv-wandertag/
LOCATION:Mühlviertler Volksfest 2010 Aussteller
CATEGORIES:Messetermine
ORGANIZER;CN="Wanderfreunde Freistadt":MAILTO:la.hablesreiter@gmail.com
END:VEVENT
BEGIN:VEVENT
DTSTART;TZID=Europe/Vienna:20220629T200000
DTEND;TZID=Europe/Vienna:20220629T200000
DTSTAMP:20260425T173957
CREATED:20200414T044425Z
LAST-MODIFIED:20200414T044425Z
UID:2035-1656532800-1656532800@messe-muehlviertel.at
SUMMARY:Freistadt in Concert
DESCRIPTION:Beginn: 20:00 Uhr   |   Einlass: ab 19:15 Uhr \nZweimal musste es coronabedingt verschoben werden\, am 29. Juni 2022 ist es endlich so weit. Die Junge Philharmonie Freistadt\, das Linzer Spitzenvokalensemble Hard Chor und die Landesmusikschule Freistadt werden unter der Leitung des Wiener Philharmonikers David Pennetzdorfer die Freistädter Messehalle zum Beben bringen.\nDabei begegnet monumentale Filmmusik für Chor und Orchester aus Hollywood\, u. a. von John Williams\, Howard Shore und Hans Zimmer\, der mitreißenden Chorfantasie von Ludwig van Beethoven mit Veronika Lehner als Solistin am Klavier.\nBesonderer Höhepunkt des Konzerts ist die Uraufführung des eigens für das Stadtjubiläum komponierten Auftragswerks The Freystadt Symphony des international bekannten österreichischen Komponisten und Songwriters Lanvall. Das Werk spätromantischer Prägung mit Rock-/Metal-Elementen bringt in Verbindung mit packenden Bildern von Freistadt die Seele der Stadt und ihrer Umgebung zum Klingen. \nFreuen Sie sich auf ein unvergessliches Konzerterlebnis!
URL:https://messe-muehlviertel.at/veranstaltung/jubilaeumskonzert-freistadt-in-concert-2/
LOCATION:Neue Messehalle_Tag 2_0098 (Custom)
CATEGORIES:Konzerte,Messetermine
ATTACH;FMTTYPE=image/jpeg:https://messe-muehlviertel.at/wp-content/uploads/2020/04/OETICKET_Freistadt-in-Concert_quadratisch.jpg
END:VEVENT
BEGIN:VEVENT
DTSTART;TZID=Europe/Vienna:20220630T190000
DTEND;TZID=Europe/Vienna:20220630T190000
DTSTAMP:20260425T173957
CREATED:20220207T094512Z
LAST-MODIFIED:20220207T094512Z
UID:2729-1656615600-1656615600@messe-muehlviertel.at
SUMMARY:Festabend "160-Jahre Messe Mühlviertel"
DESCRIPTION:Die Messe Mühlviertel feiert ihren 160. Geburtstag!
URL:https://messe-muehlviertel.at/veranstaltung/festabend-160-jahre-messe-muehlviertel/
LOCATION:Mühlviertler Volksfest 2010 Aussteller
CATEGORIES:Messetermine
ATTACH;FMTTYPE=image/jpeg:https://messe-muehlviertel.at/wp-content/uploads/2022/02/Logo_Briefpapier.jpg
ORGANIZER;CN="Messe M%C3%BChlviertel":MAILTO:office@messe-muehlviertel.at
END:VEVENT
END:VCALENDAR